BEGIN:VCALENDAR
VERSION:2.0
PRODID:-//ChamberMaster//Event Calendar 2.0//EN
METHOD:PUBLISH
X-PUBLISHED-TTL:P3D
REFRESH-INTERVAL:P3D
CALSCALE:GREGORIAN
BEGIN:VEVENT
DTSTART:20250426T150000Z
DTEND:20250426T170000Z
X-MICROSOFT-CDO-ALLDAYEVENT:FALSE
SUMMARY:Pretzels on the Playground at GISC!
DESCRIPTION:Explore and Play at GISC's Pretzels on the Playground Events!\n\nJoin German International School Chicago (GISC) for a special family event series: Pretzels on the Playground! We look forward to welcoming you on April 26\, for our special open houses: From 10:00 a.m. to 12:00 p.m. we will welcome families on our new nature playground for a fun family time. Please join us for activities including:\n\n  Free pretzels and hot drinks\n\n  Meeting staff\, faculty & current GISC families\n\n  Complimentary face painting\n\n \n\nThe events take place on our playground at GISC Campus at 1726 W Berteau Ave\, Chicago\, IL 60613 (will move indoors for bad weather).\n\nRegister now to save your spot in these great events on GISC's brand-new nature playground: https://forms.gle/C2Xcs89eTPDAq6hi8
X-ALT-DESC;FMTTYPE=text/html:<h2>Explore and Play at GISC&rsquo\;s Pretzels on the Playground Events!</h2>\n\n<p>Join German International School Chicago (GISC) for a special family event series: Pretzels on the Playground! We look forward to welcoming you on April 26\, for our special open houses: From 10:00 a.m. to 12:00 p.m. we will welcome families on our new nature playground for a fun family time. Please join us for activities including:</p>\n\n<p>&middot\; Free pretzels and hot drinks</p>\n\n<p>&middot\; Meeting staff\, faculty &amp\; current GISC families</p>\n\n<p>&middot\; Complimentary face painting<br />\n&nbsp\;</p>\n\n<p>The events take place on our playground at GISC Campus at 1726 W Berteau Ave\, Chicago\, IL 60613 (will move indoors for bad weather).</p>\n\n<p><strong>Register now to save your spot in these great events on GISC&rsquo\;s brand-new nature playground</strong>:&nbsp\;https://forms.gle/C2Xcs89eTPDAq6hi8</p>\n
LOCATION:GISC Campus at 1726 W Berteau Ave\, Chicago\, IL 60613
UID:e.2566.13622
SEQUENCE:3
DTSTAMP:20260421T044958Z
URL:https://business.ravenswoodchicago.org/events/details/pretzels-on-the-playground-at-gisc-04-26-2025-13622
END:VEVENT

END:VCALENDAR
