BEGIN:VCALENDAR
VERSION:2.0
PRODID:-//ChamberMaster//Event Calendar 2.0//EN
METHOD:PUBLISH
X-PUBLISHED-TTL:P3D
REFRESH-INTERVAL:P3D
CALSCALE:GREGORIAN
BEGIN:VEVENT
DTSTART:20240915T170000Z
DTEND:20240915T190000Z
X-MICROSOFT-CDO-ALLDAYEVENT:FALSE
SUMMARY:Pino: A Habitat Tree Workshop
DESCRIPTION:Join us for an interactive public art and sustainability workshop! This free event is scheduled to take part during the Ravenswood ArtWalk. Spend the afternoon celebrating local art and industry and learning about pollinator habitats!\n\nOn Sunday September 15 from 12:00 PM to 2:00 PM\, come build pollinator nests to be included in Pino\, the pollinator habitat/sculpture located in the Ravenswood Sculpture Garden! Drop in for 30 minute time slots to help assemble nesting materials. If there isn't room when you arrive\, you can sign up for a future time slot and explore the Ravenswood ArtWalk in the meantime. The workshop will be led by artists Janet Austin and Emily Moorhead-Wallace and is free and open to all ages.
X-ALT-DESC;FMTTYPE=text/html:<p><span style="font-size:16px\;">Join us for an interactive public art and sustainability workshop! This free event is scheduled to take part during the&nbsp\;<a href="https://ravenswoodchicago.org/signature-events/ravenswood-artwalk/">Ravenswood ArtWalk</a>. Spend the afternoon celebrating local art and industry and learning about pollinator habitats!</span></p>\n\n<p><span style="font-size:16px\;">On Sunday September 15 from 12:00 PM&nbsp\;to 2:00 PM\, come build pollinator nests to be included in <a href="https://ravenswoodchicago.org/public-art/pollinator-habitat/"><em>Pino</em></a>\, the&nbsp\;pollinator habitat/sculpture located in the <a href="https://ravenswoodchicago.org/neighborhood/ravenswood-sculpture-garden/">Ravenswood Sculpture Garden</a>! Drop in for 30 minute time slots&nbsp\;to help assemble nesting materials. If there isn&#39\;t room when you arrive\, you can sign up for a future time slot and explore the Ravenswood ArtWalk in the meantime. The workshop will be led by artists <a href="https://www.janetaustinart.com/" target="_blank">Janet Austin</a> and <a href="https://emoorheadwallace.com/" target="_blank">Emily Moorhead-Wallace</a> and is free and open to all ages.</span></p>\n
LOCATION:4501 N Ravenswood Ave\, outside of Urban Pooch Canine Life Center
UID:e.2566.11923
SEQUENCE:3
DTSTAMP:20260421T154004Z
URL:https://business.ravenswoodchicago.org/events/details/pino-a-habitat-tree-workshop-11923
END:VEVENT

END:VCALENDAR
