BEGIN:VCALENDAR
VERSION:2.0
PRODID:-//ChamberMaster//Event Calendar 2.0//EN
METHOD:PUBLISH
X-PUBLISHED-TTL:P3D
REFRESH-INTERVAL:P3D
CALSCALE:GREGORIAN
BEGIN:VEVENT
DTSTART:20241208T150000Z
DTEND:20241209T050000Z
X-MICROSOFT-CDO-ALLDAYEVENT:FALSE
SUMMARY:Painting & Cookies with Santa
DESCRIPTION:Join us for a magical morning at our Paint with Santa event! This festive occasion is perfect for families and children who want to create lasting holiday memories. When: December 8th at 9:00 AM Where: Color Me Mine\, North Center What's Included in the $50 Per Painter Ticket: Handprint Plate: Each painter will receive a special handprint plate\, personally signed by Santa Claus & 2 ornaments. Cookie Bar: Enjoy a delicious cookies to satisfy your sweet tooth. Carol Singing: Sing along to your favorite carols . Meet and Greet: Each child will have the opportunity to greet Santa and take memorable photos with him. Reserve Your Spot: Seats are limited\, so be sure to book your spot early for this enchanting event. Additional Information: Can parents attend the event? After reserving seat for your child call us to add adults\, $12 studio fee and a pottery purchase required to attend the event & take pictures with Santa. Due to limited seats only one per child will be allowed.
X-ALT-DESC;FMTTYPE=text/html:Join us for a magical morning at our Paint with Santa event! This festive occasion is perfect for families and children who want to create lasting holiday memories. When: December 8th at 9:00 AM Where: Color Me Mine\, North Center What&rsquo\;s Included in the $50 Per Painter Ticket: Handprint Plate: Each painter will receive a special handprint plate\, personally signed by Santa Claus &amp\; 2 ornaments. Cookie Bar: Enjoy a delicious cookies to satisfy your sweet tooth. Carol Singing: Sing along to your favorite carols . Meet and Greet: Each child will have the opportunity to greet Santa and take memorable photos with him. Reserve Your Spot: Seats are limited\, so be sure to book your spot early for this enchanting event. Additional Information: Can parents attend the event? After reserving seat for your child call us to add adults\, $12 studio fee and a pottery purchase required to attend the event &amp\; take pictures with Santa. Due to limited seats only one per child will be allowed.
LOCATION:Where: Color Me Mine\, North Center
UID:e.2566.12023
SEQUENCE:3
DTSTAMP:20260421T113523Z
URL:https://business.ravenswoodchicago.org/events/details/painting-cookies-with-santa-12023
END:VEVENT

END:VCALENDAR
