BEGIN:VCALENDAR
VERSION:2.0
PRODID:-//ChamberMaster//Event Calendar 2.0//EN
METHOD:PUBLISH
X-PUBLISHED-TTL:P3D
REFRESH-INTERVAL:P3D
CALSCALE:GREGORIAN
BEGIN:VEVENT
DTSTART:20240830T160000Z
DTEND:20240830T180000Z
X-MICROSOFT-CDO-ALLDAYEVENT:FALSE
SUMMARY:Paint me a Story - Story time with Pottery Painting
DESCRIPTION:oin us for Paint Me A Story\, a delightful program for preschool-aged children and their parents.\n\nKids aged 2-6 will enjoy a story read by our friendly staff\, followed by an exciting painting project related to the tale.\n\nChildren will choose from our fun Party Animals collection to paint\, creating a cherished keepsake while having a blast.\n\nThis event is perfect for young ones aged 2-6 and is designed for parent participation it's not a drop-off event.\n\nFor just $35 per child\, the experience includes a snack\, painting project\, glazing/firing\, story time\, and plenty of fun!\n\nCome make magical memories with us at Color Me Mine!
X-ALT-DESC;FMTTYPE=text/html:<p style="text-align:center"><strong><em>oin us for Paint Me A Story\, a delightful program for preschool-aged children and their parents.</em></strong></p>\n\n<p style="text-align:center"><strong><em>Kids aged 2-6 will enjoy a story read by our friendly staff\, followed by an exciting painting project related to the tale.</em></strong></p>\n\n<p style="text-align:center"><strong><em>Children will choose from our fun Party Animals collection to paint\, creating a cherished keepsake while having a blast.</em></strong></p>\n\n<p style="text-align:center"><strong><em>This event is perfect for young ones aged 2-6 and is designed for parent participation&mdash\;it&rsquo\;s not a drop-off event.</em></strong></p>\n\n<p style="text-align:center"><strong><em>For just $35 per child\, the experience includes a snack\, painting project\, glazing/firing\, story time\, and plenty of fun!</em></strong></p>\n\n<p style="text-align:center"><strong><em>Come make magical memories with us at Color Me Mine!</em></strong></p>\n
LOCATION:COLOR ME MINE 3849 N LINCOLN AVE CHICAGO\, IL 60613
UID:e.2566.11926
SEQUENCE:3
DTSTAMP:20260421T172632Z
URL:https://business.ravenswoodchicago.org/events/details/paint-me-a-story-story-time-with-pottery-painting-11926
END:VEVENT

END:VCALENDAR
