BEGIN:VCALENDAR
VERSION:2.0
PRODID:-//ChamberMaster//Event Calendar 2.0//EN
METHOD:PUBLISH
X-PUBLISHED-TTL:P3D
REFRESH-INTERVAL:P3D
CALSCALE:GREGORIAN
BEGIN:VEVENT
DTSTART;VALUE=DATE:20241208
DTEND;VALUE=DATE:20241209
TRANSP:TRANSPARENT
X-MICROSOFT-CDO-ALLDAYEVENT:TRUE
SUMMARY:Paint & Cookies with Santa
DESCRIPTION:Join us for a magical morning at our Paint with Santa event!\n\nThis festive occasion is perfect for families and children who want to create lasting holiday memories.\n\nWhen: December 8th at 9:00 AM\n\nWhere: Color Me Mine\, North Center\n\nWhat's Included in the $50 Per Painter Ticket:\n\nHandprint Plate: Each painter will receive a special handprint plate\, personally signed by Santa Claus & 2 ornaments.\n\nCookie Bar: Enjoy a delicious cookies to satisfy your sweet tooth.\n\nCarol Singing: Sing along to your favorite carols .\n\nMeet and Greet: Each child will have the opportunity to greet Santa and take memorable photos with him.\n\nReserve Your Spot:\n\nSeats are limited\, so be sure to book your spot early for this enchanting event.\n\nAdditional Information:\n\nCan parents attend the event? After reserving seat for your child call us to add adults\, $12 studio fee and a pottery purchase required to attend the event & take pictures with Santa.
X-ALT-DESC;FMTTYPE=text/html:<span style="font-size:14.0pt">Join us for a magical morning at our Paint with Santa event!</span><br />\n<span style="font-size:14.0pt">This festive occasion is perfect for families and children who want to create lasting holiday memories.</span><br />\n<span style="font-size:14.0pt">When: December 8th at 9:00 AM</span><br />\n<span style="font-size:14.0pt">Where: Color Me Mine\, North Center</span><br />\n<span style="font-size:14.0pt">What&rsquo\;s Included in the $50 Per Painter Ticket:</span><br />\n<span style="font-size:14.0pt">Handprint Plate: Each painter will receive a special handprint plate\, personally signed by Santa Claus &amp\; 2 ornaments.</span><br />\n<span style="font-size:14.0pt">Cookie Bar: Enjoy a delicious cookies to satisfy your sweet tooth.</span><br />\n<span style="font-size:14.0pt">Carol Singing: Sing along to your favorite carols .</span><br />\n<span style="font-size:14.0pt">Meet and Greet: Each child will have the opportunity to greet Santa and take memorable photos with him.</span><br />\n<span style="font-size:14.0pt">Reserve Your Spot:<br />\nSeats are limited\, so be sure to book your spot early for this enchanting event.</span><br />\n<span style="font-size:14.0pt">Additional Information:</span><br />\n<span style="font-family:calibri\,sans-serif"><span style="font-size:14.0pt">Can parents attend the event? After reserving seat for your child call us to add adults\, $12 studio fee and a pottery purchase required to attend the event &amp\; take pictures with Santa.</span></span>
LOCATION:Color Me Mine\, North Center
UID:e.2566.12026
SEQUENCE:3
DTSTAMP:20260421T113351Z
URL:https://business.ravenswoodchicago.org/events/details/paint-cookies-with-santa-12026
END:VEVENT

END:VCALENDAR
