BEGIN:VCALENDAR
VERSION:2.0
PRODID:-//ChamberMaster//Event Calendar 2.0//EN
METHOD:PUBLISH
X-PUBLISHED-TTL:P3D
REFRESH-INTERVAL:P3D
CALSCALE:GREGORIAN
BEGIN:VEVENT
DTSTART:20230121T180000Z
DTEND:20230121T200000Z
X-MICROSOFT-CDO-ALLDAYEVENT:FALSE
SUMMARY:Open your HEART to what you truly want
DESCRIPTION:Your brain MIGHT know your dreams and goals\, but what about your nervous system and your heart?\n\nExplore your possibilities for 2023 with Dr. Katie in a small group setting\, as she introduces you to focused breath techniques. Open your heart to your best year this year!\n\nAvailable both In Person (limit 8) ($59)\, and Virtually ($29)\n\n\n\nREGISTER ONLINE AT https://newdaynsa.janeapp.com/
X-ALT-DESC;FMTTYPE=text/html:<p><strong>Your brain MIGHT know your dreams and goals\, but what about your nervous system and your heart?</strong></p>\n\n<p>Explore your possibilities for 2023 with Dr. Katie in a small group setting\, as she introduces you to focused breath techniques. Open your heart to your best year this year!</p>\n\n<p>Available both In Person (limit 8) ($59)\, and Virtually ($29)<br />\n<br />\n<strong>REGISTER ONLINE AT https://newdaynsa.janeapp.com/</strong></p>\n
LOCATION:New Day Network Wellness Center 4308 N. Lincoln Avenue Chicago\, IL 60618
UID:e.2566.5087
SEQUENCE:3
DTSTAMP:20260420T141953Z
URL:https://business.ravenswoodchicago.org/events/details/open-your-heart-to-what-you-truly-want-5087
END:VEVENT

END:VCALENDAR
