BEGIN:VCALENDAR
VERSION:2.0
PRODID:-//ChamberMaster//Event Calendar 2.0//EN
METHOD:PUBLISH
X-PUBLISHED-TTL:P3D
REFRESH-INTERVAL:P3D
CALSCALE:GREGORIAN
BEGIN:VEVENT
DTSTART:20250412T190000Z
DTEND:20250412T210000Z
X-MICROSOFT-CDO-ALLDAYEVENT:FALSE
SUMMARY:Open House @ Dandelion Theraeputic Art Center
DESCRIPTION:Join us for a celebratory open house\, celebrating art and our one-year anniversary at 1628 W. Montrose!\nIt's been an incredible year at our new Ravenswood location and we'd love for you to stop by and see what we've been up to.\n\nWhile our space is normally closed to the public\, we're hosting TWO Saturday open houses to welcome you in.\n\n\n	April 12 from 2 to 4\n	May 3 from 2 to 4\n\n\n\n\nYou can:\n\n\n	Tour our space\n	Make some art (to take home and display)\n	Learn how art therapy heals and transforms\n\n\nCool swag for the first 10 visitors each day\n\n \n\nDandelion Therapeutic Art Center\n\n1628 W. Montrose\n\nwww.dandelionartstudio.com
X-ALT-DESC;FMTTYPE=text/html:<strong>Join us for a celebratory open house\, celebrating art and our one-year anniversary at 1628 W. Montrose!</strong>\n<p>It&rsquo\;s been an incredible year at our new Ravenswood location and we&rsquo\;d love for you to stop by and see what we&rsquo\;ve been up to.</p>\n\n<p>While our space is normally closed to the public\, we&rsquo\;re hosting TWO Saturday open houses to welcome you in.</p>\n\n<ul>\n	<li>April 12 from 2 to 4</li>\n	<li>May 3 from 2 to 4</li>\n</ul>\n\n<p><br />\nYou can:</p>\n\n<ul>\n	<li>Tour our space</li>\n	<li>Make some art (to take home and display)</li>\n	<li>Learn how art therapy heals and transforms</li>\n</ul>\n\n<p>Cool swag for the first 10 visitors each day</p>\n\n<p>&nbsp\;</p>\n\n<p>Dandelion Therapeutic Art Center</p>\n\n<p>1628 W. Montrose<br />\nwww.dandelionartstudio.com</p>\n
LOCATION:1628 W. Montrose Chicago IL
UID:e.2566.13633
SEQUENCE:3
DTSTAMP:20260421T044846Z
URL:https://business.ravenswoodchicago.org/events/details/open-house-dandelion-theraeputic-art-center-13633
END:VEVENT

END:VCALENDAR
