BEGIN:VCALENDAR
VERSION:2.0
PRODID:-//ChamberMaster//Event Calendar 2.0//EN
METHOD:PUBLISH
X-PUBLISHED-TTL:P3D
REFRESH-INTERVAL:P3D
CALSCALE:GREGORIAN
BEGIN:VEVENT
DTSTART:20250727T170000Z
DTEND:20250727T230000Z
X-MICROSOFT-CDO-ALLDAYEVENT:FALSE
SUMMARY:New Century Art Guild Veteran Art Show and Fundraiser
DESCRIPTION:Michael Bever Art sponsoring an art show featuring Veteran artists. We will also be raising funds to help us perform art based workshops for Veterans\, their families\, and care takers through New Century Art guild. NCAG is a 501c that transforms Veterans' lives through the power of art: professionally\, recreationally\, and therapeutically. Newcenturyartguild.org
X-ALT-DESC;FMTTYPE=text/html:Michael Bever Art sponsoring an art show featuring Veteran artists. We will also be raising funds to help us perform art based workshops for Veterans\, their families\, and care takers through New Century Art guild. NCAG is a 501c that transforms Veterans&#39\; lives through the power of art: professionally\, recreationally\, and therapeutically. Newcenturyartguild.org
LOCATION:4923 N Damen Ave
UID:e.2566.14547
SEQUENCE:3
DTSTAMP:20260420T232233Z
URL:https://business.ravenswoodchicago.org/events/details/new-century-art-guild-veteran-art-show-and-fundraiser-14547
END:VEVENT

END:VCALENDAR
