BEGIN:VCALENDAR
VERSION:2.0
PRODID:-//ChamberMaster//Event Calendar 2.0//EN
METHOD:PUBLISH
X-PUBLISHED-TTL:P3D
REFRESH-INTERVAL:P3D
CALSCALE:GREGORIAN
BEGIN:VEVENT
DTSTART:20240426T230000Z
DTEND:20240427T020000Z
X-MICROSOFT-CDO-ALLDAYEVENT:FALSE
SUMMARY:Neuroscience of Embodied Presence
DESCRIPTION:The Neuroscience of Embodied Presence: Moving within the Inter-subjective Realm\n\nInstructor: Kris Eric Larsen LCPC\, BC-DMT\, GLCMA\n\nApr 19-21 & 26-28\, 2024\n\nFridays 6-9pm\; Saturday & Sunday 9-4\n\nCost: $850\n\nEmbedded within the intersubjective relationship is the opportunity for present moment experiences of self and other. As counselors we are utilizing our bodies as intuitive processors within the therapeutic relationship and thus in need to be conscious of how we create presence in our own bodies for self-care and within the relationship for intervention and healing. Current discoveries in neuroscience and mindfulness find the field of psychology integrating the mind and the body in ways that are both new and creative. This course introduces students to in-roads for creating presence\, mindful self-care\, identification of personal creative process and critical inquiry of neuroscientific discussions that integrate and navigate the flow of mind and the flow of bodies in movement.\n\n2 credit hours / 30 classroom hours - Approved by the ADTA\n\nNBCC approved program- 30 CEs available\n\nFor more information\, email: embodiededucationinstitute@gmail.com
X-ALT-DESC;FMTTYPE=text/html:<h5><strong>The Neuroscience of Embodied Presence: Moving within the Inter-subjective Realm</strong></h5>\n\n<p>Instructor: Kris Eric Larsen LCPC\, BC-DMT\, GLCMA</p>\n\n<p>Apr 19-21 &amp\; 26-28\, 2024</p>\n\n<p>Fridays 6-9pm\; Saturday &amp\; Sunday 9-4</p>\n\n<p>Cost: $850</p>\n\n<p>Embedded within the intersubjective relationship is the opportunity for present moment experiences of self and other. As counselors we are utilizing our bodies as intuitive processors within the therapeutic relationship and thus in need to be conscious of how we create presence in our own bodies for self-care and within the relationship for intervention and healing. Current discoveries in neuroscience and mindfulness find the field of psychology integrating the mind and the body in ways that are both new and creative. This course introduces students to in-roads for creating presence\, mindful self-care\, identification of personal creative process and critical inquiry of neuroscientific discussions that integrate and navigate the flow of mind and the flow of bodies in movement.</p>\n\n<p><span style="color:rgb(0\, 0\, 0)"><strong><em>2 credit hours / 30 classroom hours - Approved by the ADTA</em></strong></span></p>\n\n<p><strong>NBCC approved program- 30 CEs available</strong></p>\n\n<p>For more information\, email:&nbsp\;<a href="mailto:embodiededucationinstitute@gmail.com" style="box-sizing: border-box\; color: rgb(247\, 136\, 47)\; text-decoration-line: none\; line-height: 1.5\;">embodiededucationinstitute@gmail.com</a></p>\n
LOCATION:Mind Body Connections studio 1802 W. Berteau suite 205\, Chicago\, IL
UID:e.2566.8375
SEQUENCE:3
DTSTAMP:20260422T015039Z
URL:https://business.ravenswoodchicago.org/events/details/neuroscience-of-embodied-presence-04-26-2024-8375
END:VEVENT

END:VCALENDAR
