BEGIN:VCALENDAR
VERSION:2.0
PRODID:-//ChamberMaster//Event Calendar 2.0//EN
METHOD:PUBLISH
X-PUBLISHED-TTL:P3D
REFRESH-INTERVAL:P3D
CALSCALE:GREGORIAN
BEGIN:VEVENT
DTSTART:20241009T223000Z
DTEND:20241010T003000Z
X-MICROSOFT-CDO-ALLDAYEVENT:FALSE
SUMMARY:Networking Extravaganza 2024
DESCRIPTION:Make new connections at the 20th annual multi-chamber Networking Extravaganza!\n\n\nKick back and get to know professionals from the north\, south and west sides of Chicago at this one-of-a-kind multi-chamber event. Make new connections and catch up with trusted contacts while indulging in delicious appetizers and refreshing drinks throughout the night at The Green in Lincoln Park.\n\n\n16 Chicago neighborhood chambers and business organizations are sponsoring this event! Register at lincolnparkchamber.com/event/networking-extravaganza-2024.
X-ALT-DESC;FMTTYPE=text/html:<!-- wp:paragraph -->\n<p>Make new connections at the 20th annual multi-chamber Networking Extravaganza!</p>\n<!-- /wp:paragraph --><!-- wp:paragraph -->\n\n<p>Kick back and <span style="font-size:12px\;">get </span>to know professionals from the north\, south and west sides of Chicago at this one-of-a-kind multi-chamber event. Make new connections and catch up with trusted contacts while indulging in delicious appetizers and refreshing drinks throughout the night at <a href="https://www.golfthegreen.com/">The Green</a> in Lincoln Park.</p>\n<!-- /wp:paragraph --><!-- wp:paragraph -->\n\n<p>16 Chicago neighborhood chambers and business organizations are sponsoring this event! Register at <a href="https://www.lincolnparkchamber.com/event/networking-extravaganza-2024/">lincolnparkchamber.com/event/networking-extravaganza-2024</a>.</p>\n<!-- /wp:paragraph -->
LOCATION:The Green 2131 N. Elston Chicago\, IL 60614
UID:e.2566.11934
SEQUENCE:3
DTSTAMP:20260421T154626Z
URL:https://business.ravenswoodchicago.org/events/details/networking-extravaganza-2024-11934
END:VEVENT

END:VCALENDAR
