BEGIN:VCALENDAR
VERSION:2.0
PRODID:-//ChamberMaster//Event Calendar 2.0//EN
METHOD:PUBLISH
X-PUBLISHED-TTL:P3D
REFRESH-INTERVAL:P3D
CALSCALE:GREGORIAN
BEGIN:VEVENT
DTSTART:20240424T140000Z
DTEND:20240424T150000Z
X-MICROSOFT-CDO-ALLDAYEVENT:FALSE
SUMMARY:NE Levy Senior Center Village Meeting (via Zoom)
DESCRIPTION:The NE Levy Center Village\, a collaborative volunteer network that aims to increase the accessibility of resources for older adults in Lincoln Square\, Ravenswood\, Uptown\, and the greater NE area\, will be holding their next meeting (via Zoom) on Wednesday\, April 24th from 9:00-10:00 a.m.\n\n\n\nGuest Speaker: Alicia Green\, a certified horticultural therapist at the Chicago Botanic Garden\, will presenting on "Horticultural Therapy: Helpful Hints/Ideas for Older Adults & Gardening."\n\n\n\nAdditional updates from community members and organizations will also be shared.\n\n\n\nTo register for the meeting (and obtain a Zoom link)\, please email Sean Dolan at sean.dolan@cityofchicago.org.
X-ALT-DESC;FMTTYPE=text/html:<br />\nThe NE Levy Center Village\, a collaborative volunteer network that aims to increase the accessibility of resources for older adults in Lincoln Square\, Ravenswood\, Uptown\, and the greater NE area\, will be holding their next meeting (via Zoom) on Wednesday\, April 24th from 9:00-10:00 a.m.<br />\n<br />\nGuest Speaker: Alicia Green\, a certified horticultural therapist at the Chicago Botanic Garden\, will presenting on &quot\;Horticultural Therapy: Helpful Hints/Ideas for Older Adults &amp\; Gardening.&quot\;<br />\n<br />\nAdditional updates from community members and organizations will also be shared.<br />\n<br />\n<strong>To register for the meeting (and obtain a Zoom link)\, please email Sean Dolan at <a href="mailto:sean.dolan@cityofchicago.org?subject=RSVP%20for%20NE%20Levy%20Senior%20Center%20Village%20Meeting">sean.dolan@cityofchicago.org</a>.</strong>
LOCATION:Zoom (download here)
UID:e.2566.8390
SEQUENCE:3
DTSTAMP:20260422T015249Z
URL:https://business.ravenswoodchicago.org/events/details/ne-levy-senior-center-village-meeting-via-zoom-8390
END:VEVENT

END:VCALENDAR
