BEGIN:VCALENDAR
VERSION:2.0
PRODID:-//ChamberMaster//Event Calendar 2.0//EN
METHOD:PUBLISH
X-PUBLISHED-TTL:P3D
REFRESH-INTERVAL:P3D
CALSCALE:GREGORIAN
BEGIN:VEVENT
DTSTART:20250710T200000Z
DTEND:20250710T220000Z
X-MICROSOFT-CDO-ALLDAYEVENT:FALSE
SUMMARY:Navigating Leadership Through Difficult Times
DESCRIPTION:Join us at SketchPad for an empowering and interactive workshop designed specifically for small business owners who are leading through challenge and change. Led by licensed clinical psychologist Dr. Bianka Hardin of Centered Therapy Chicago\, this session offers a thoughtful space to explore how to lead with resilience\, presence\, and intention during difficult times.\n\n\nThroughout the workshop\, participants will engage in self-reflective exercises that deepen personal insight and leadership clarity\, while also exploring mindfulness-based activities to manage stress\, cultivate emotional awareness\, and support grounded decision-making. Dr. Hardin will guide attendees through practical tools and frameworks that can help navigate uncertainty with both confidence and compassion.\n\n\nWhether you're facing organizational changes\, economic pressure\, or the personal toll of leadership\, this experience will help you reconnect with your values and vision\, while fostering sustainable practices for yourself and your team. Come ready to reflect\, recharge\, and reconnect with your leadership purpose.\n\n\n\nTickets include admission\, snacks from Schmaltz & Vinegar and entry into a door prize raffle. Registration closes at noon on Wednesday\, July 9th. This event is presented by the Greater Ravenswood Chamber of Commerce and Centered Therapy Chicago.
X-ALT-DESC;FMTTYPE=text/html:<!-- wp:paragraph -->\n<p>Join us at SketchPad for an empowering and interactive workshop designed specifically for small business owners who are leading through challenge and change. Led by licensed clinical psychologist Dr.&nbsp\;Bianka&nbsp\;Hardin of Centered Therapy Chicago\, this session offers a thoughtful space to explore how to lead with resilience\, presence\, and intention during difficult times.</p>\n<!-- /wp:paragraph --><!-- wp:paragraph -->\n\n<p>Throughout the workshop\, participants will engage in self-reflective exercises that deepen personal insight and leadership clarity\, while also exploring mindfulness-based activities to manage stress\, cultivate emotional awareness\, and support grounded decision-making. Dr. Hardin will guide attendees through practical tools and frameworks that can help navigate uncertainty with both confidence and compassion.</p>\n<!-- /wp:paragraph --><!-- wp:paragraph -->\n\n<p>Whether you&#39\;re facing organizational changes\, economic pressure\, or the personal toll of leadership\, this experience will help you reconnect with your values and vision\, while fostering sustainable practices for yourself and your team. Come ready to reflect\, recharge\, and reconnect with your leadership purpose.<br />\n<br />\nTickets include admission\, snacks from <a href="https://www.schmaltzandvinegar.com/" rel="noreferrer noopener" target="_blank">Schmaltz &amp\; Vinegar</a> and entry into a door prize raffle. Registration closes at noon on Wednesday\, July 9th. This event is presented by the&nbsp\;<a href="https://ravenswoodchicago.org/do-business/" rel="noreferrer noopener" target="_blank">Greater Ravenswood Chamber of Commerce</a>&nbsp\;and&nbsp\;<a href="https://www.centeredtherapychicago.com/" rel="noreferrer noopener" target="_blank">Centered Therapy Chicago</a>.</p>\n<!-- /wp:paragraph -->
LOCATION:Sketchpad 4411 N Ravenswood Ave
UID:e.2566.14016
SEQUENCE:3
DTSTAMP:20260420T214718Z
URL:https://business.ravenswoodchicago.org/events/details/navigating-leadership-through-difficult-times-14016
END:VEVENT

END:VCALENDAR
