BEGIN:VCALENDAR
VERSION:2.0
PRODID:-//ChamberMaster//Event Calendar 2.0//EN
METHOD:PUBLISH
X-PUBLISHED-TTL:P3D
REFRESH-INTERVAL:P3D
CALSCALE:GREGORIAN
BEGIN:VEVENT
DTSTART:20240418T223000Z
DTEND:20240419T013000Z
X-MICROSOFT-CDO-ALLDAYEVENT:FALSE
SUMMARY:Munch March Dessert & Appetizer Crawl 2024
DESCRIPTION:Join us for the third annual Munch March Dessert & Appetizer Crawl!\n\nOn April 18th from 5:30pm to 8:30pm\, your favorite Ravenswood businesses are teaming up for an evening of treats and drinks. Enjoy a fantastic selection of local desserts\, appetizers\, and alcoholic and non-alcoholic drink samples as you march between shops and restaurants along Montrose between Seeley Ave and Ravenswood Ave.\n\nParticipating Businesses:\n\n\n	Chilee Oil\n	Cultivate by Forbidden Root\n	Falcon's Handcrafted Sandwiches\n	First Slice Pie Caf \n	Gnome Brew\n	Hazel\n	Hilary's Cookies\n	Katherine Anne Confections\n	Lillstreet Art Center\n	Paradise Port Cafe\n	State Representative Hoan Huynh\n	Teddy's Ice Cream\n	The Ravenswood Tavern\n\n\nThe Munch March is a unique opportunity to sample a variety of our neighborhood's flavors and menu items in one evening. It's also a fun way to explore and support the vibrant mix of restaurants\, taverns\, and shops along Montrose Avenue. Check in at our kickoff location at First Slice Pie Cafe (1969 W Montrose Ave) to get wristbands\, punch cards\, and event maps. Then\, everyone is off to sample some snacks and check out some cool local businesses!\n\nThis event is 21+ and will be held rain or shine. Check-in time is from 5:30pm to 7:30pm. Alcoholic beverages can not leave the premises where they were poured. IDs will be checked. All ticket sales are final.\n\n\n\nPurchase tickets here or visit https://www.eventbrite.com/e/munch-march-dessert-appetizer-crawl-tickets-858288111847?aff=oddtdtcreator\n\nThe Munch March is brought to you by the Greater Ravenswood Chamber of Commerce and Special Service Area #31
X-ALT-DESC;FMTTYPE=text/html:<h2><strong>Join us for the third annual Munch March Dessert &amp\; Appetizer Crawl!</strong></h2>\n\n<p>On April 18th from 5:30pm to 8:30pm\, your favorite Ravenswood businesses are teaming up for an evening of treats and drinks. Enjoy a fantastic selection of local desserts\, appetizers\, and alcoholic and non-alcoholic&nbsp\;drink&nbsp\;samples as you march between shops and restaurants along Montrose between Seeley Ave and Ravenswood Ave.</p>\n\n<h3>Participating Businesses:</h3>\n\n<ul>\n	<li value="1"><a href="https://chileeoil.com/" rel="nofollow noopener noreferrer ugc" target="_blank" title="https://chileeoil.com/">Chilee Oil</a></li>\n	<li value="2"><a href="https://www.forbiddenroot.com/cultivate" rel="nofollow noopener noreferrer ugc" target="_blank" title="https://www.forbiddenroot.com/cultivate">Cultivate by Forbidden Root</a></li>\n	<li value="3"><a href="https://www.falconshandcraftedsandwiches.com/" rel="nofollow noopener noreferrer ugc" target="_blank" title="https://www.falconshandcraftedsandwiches.com/">Falcon&#39\;s Handcrafted Sandwiches</a></li>\n	<li value="4"><a href="https://firstslice.org/" rel="nofollow noopener noreferrer ugc" target="_blank" title="https://firstslice.org/">First Slice Pie Caf&eacute\;</a></li>\n	<li value="5"><a href="https://gnomebrewshop.com/" rel="nofollow noopener noreferrer ugc" target="_blank" title="https://gnomebrewshop.com/">Gnome Brew</a></li>\n	<li value="6"><a href="https://hazelchicago.com/" rel="nofollow noopener noreferrer ugc" target="_blank" title="https://hazelchicago.com/">Hazel</a></li>\n	<li value="7"><a href="https://www.facebook.com/profile.php?id=100063997542100" rel="nofollow noopener noreferrer ugc" target="_blank" title="https://www.facebook.com/profile.php?id=100063997542100">Hilary&#39\;s Cookies</a></li>\n	<li value="8"><a href="https://www.katherine-anne.com/" rel="nofollow noopener noreferrer ugc" target="_blank" title="https://www.katherine-anne.com/">Katherine Anne Confections</a></li>\n	<li value="9"><a href="https://lillstreet.com/" rel="nofollow noopener noreferrer ugc" target="_blank" title="https://lillstreet.com/">Lillstreet Art Center</a></li>\n	<li value="10"><a href="https://www.paradiseportcafe.com/" rel="nofollow noopener noreferrer ugc" target="_blank" title="https://www.paradiseportcafe.com/">Paradise Port Cafe</a></li>\n	<li value="11"><a href="https://www.rephoanhuynh.com/" rel="nofollow noopener noreferrer ugc" target="_blank" title="https://www.rephoanhuynh.com/">State Representative Hoan Huynh</a></li>\n	<li value="12"><a href="https://teddysicecream.net/" rel="nofollow noopener noreferrer ugc" target="_blank" title="https://teddysicecream.net/">Teddy&#39\;s Ice Cream</a></li>\n	<li value="13"><a href="https://www.theravenswoodtavern.com/" rel="nofollow noopener noreferrer ugc" target="_blank" title="https://www.theravenswoodtavern.com/">The Ravenswood Tavern</a></li>\n</ul>\n\n<p>The Munch March is a unique opportunity to sample a variety of our neighborhood&rsquo\;s flavors and menu items in one evening. It&rsquo\;s also a fun way to explore and support the vibrant mix of restaurants\, taverns\, and shops along Montrose Avenue. <strong>Check in at our kickoff location at First Slice Pie Cafe</strong> (1969 W Montrose Ave) to get wristbands\, punch cards\, and event maps. Then\, everyone is off to sample some snacks and check out some cool local businesses!</p>\n\n<p><strong>This event is 21+</strong> and will be held rain or shine. <strong>Check-in time is from 5:30pm to 7:30pm.</strong> Alcoholic beverages can not leave the premises where they were poured. IDs will be checked. <strong>All ticket sales are final.<br />\n<br />\n<span style="font-size:16px\;"><span style="color:#008080\;">Purchase tickets </span><a href="https://www.eventbrite.com/e/munch-march-dessert-appetizer-crawl-tickets-858288111847?aff=oddtdtcreator"><span style="color:#800080\;">here</span></a><span style="color:#008080\;"> or visit&nbsp\;https://www.eventbrite.com/e/munch-march-dessert-appetizer-crawl-tickets-858288111847?aff=oddtdtcreator</span></span></strong></p>\n\n<p>The Munch March is brought to you by the <a href="https://ravenswoodchicago.org/" rel="nofollow noopener noreferrer ugc" target="_blank" title="https://ravenswoodchicago.org/">Greater Ravenswood Chamber of Commerce</a>&nbsp\;and <a href="https://ravenswoodchicago.org/ravenswood-ssa31/">Special Service Area #31</a></p>\n
LOCATION:Montrose Ave\, between Seeley Ave and Ravenswood Ave
UID:e.2566.8358
SEQUENCE:3
DTSTAMP:20260422T014807Z
URL:https://business.ravenswoodchicago.org/events/details/munch-march-dessert-appetizer-crawl-2024-8358
END:VEVENT

END:VCALENDAR
