BEGIN:VCALENDAR
VERSION:2.0
PRODID:-//ChamberMaster//Event Calendar 2.0//EN
METHOD:PUBLISH
X-PUBLISHED-TTL:P3D
REFRESH-INTERVAL:P3D
CALSCALE:GREGORIAN
BEGIN:VEVENT
DTSTART:20250411T160000Z
DTEND:20250411T170000Z
X-MICROSOFT-CDO-ALLDAYEVENT:FALSE
SUMMARY:Movement-Based Supervision: Harnessing the Power of Embodied Practices
DESCRIPTION:This workshop explores the use of movement and embodied practices in clinical settings to deepen self-awareness\, foster creativity\, and enhance relational interplay with clients. Drawing from principles of dance/movement therapy\, somatic psychology\, and mindfulness\, participants will enhance their tracking skills and discern which moments hold potential for deeper connection and movement exploration. Through group discussion\, we will discuss challenging moments in clinical practice while bringing awareness to what is implicitly emerging in the body/bodies and identify ways to somatically resource as a community to remain present with one another and with clients.
X-ALT-DESC;FMTTYPE=text/html:<span style="color:rgb(37\, 37\, 37)\; font-family:source serif pro\,sans-serif\; font-size:18px">This workshop explores the use of movement and embodied practices in clinical settings to deepen self-awareness\, foster creativity\, and enhance relational interplay with clients. Drawing from principles of dance/movement therapy\, somatic psychology\, and mindfulness\, participants will enhance their tracking skills and discern which moments hold potential for deeper connection and movement exploration. Through group discussion\, we will discuss challenging moments in clinical practice while bringing awareness to what is implicitly emerging in the body/bodies and identify ways to somatically resource as a community to remain present with one another and with clients.</span>
LOCATION:Virtual
UID:e.2566.13623
SEQUENCE:3
DTSTAMP:20260421T044809Z
URL:https://business.ravenswoodchicago.org/events/details/movement-based-supervision-harnessing-the-power-of-embodied-practices-13623
END:VEVENT

END:VCALENDAR
