BEGIN:VCALENDAR
VERSION:2.0
PRODID:-//ChamberMaster//Event Calendar 2.0//EN
METHOD:PUBLISH
X-PUBLISHED-TTL:P3D
REFRESH-INTERVAL:P3D
CALSCALE:GREGORIAN
BEGIN:VEVENT
DTSTART:20250511T150000Z
DTEND:20250511T210000Z
X-MICROSOFT-CDO-ALLDAYEVENT:FALSE
SUMMARY:Mother’s Day silk stitching workshop
DESCRIPTION:Treat your favorite caregiver to a special Mother's Day embroidery event\, featuring a limited-edition design with an exclusive English heritage silk floss! Snacks will also be provided as a part of this special event.\n\nThis May Morris-inspired embroidery will allow students to make an embellished small-format notebook cover.  Students will learn how to handle silk threads\, Japanese gold threads and how to stitch them on a linen ground.  \n\nTechniques include:\n\n\n	Setting up a hoop\n	Couching\n	Stem Stitch\n	Laid Work\n	Simple Form Darning Stitch\n	French Knots\n	Monogram\n	Construction of the Notebook cover\n\n\nRegistration fee includes all materials\, printed instructions\, and light snacks. This class is recommended for those with some prior hand-sewing or embroidery experience. All are welcome\, whether you bring a companion or not.
X-ALT-DESC;FMTTYPE=text/html:<p>Treat your favorite caregiver to a special Mother&rsquo\;s Day embroidery event\, featuring a limited-edition design with an exclusive English heritage silk floss! Snacks will also be provided as a part of this special event.</p>\n\n<p>This May Morris-inspired embroidery will allow students to make an embellished small-format notebook cover.&nbsp\; Students will learn how to handle silk threads\, Japanese gold threads and how to stitch them on a linen ground.&nbsp\;&nbsp\;</p>\n\n<p>Techniques include:</p>\n\n<ul>\n	<li>Setting up a hoop</li>\n	<li>Couching</li>\n	<li>Stem Stitch</li>\n	<li>Laid Work</li>\n	<li>Simple Form Darning Stitch</li>\n	<li>French Knots</li>\n	<li>Monogram</li>\n	<li>Construction of the Notebook cover</li>\n</ul>\n\n<p>Registration fee includes all materials\, printed instructions\, and light snacks. This class is recommended for those with some prior hand-sewing or embroidery experience. All are welcome\, whether you bring a companion or not.</p>\n
LOCATION:1746 W Wilson Ave\, Chicago 60640
UID:e.2566.13642
SEQUENCE:3
DTSTAMP:20260421T031840Z
URL:https://business.ravenswoodchicago.org/events/details/mother-s-day-silk-stitching-workshop-13642
END:VEVENT

END:VCALENDAR
