BEGIN:VCALENDAR
VERSION:2.0
PRODID:-//ChamberMaster//Event Calendar 2.0//EN
METHOD:PUBLISH
X-PUBLISHED-TTL:P3D
REFRESH-INTERVAL:P3D
CALSCALE:GREGORIAN
BEGIN:VEVENT
DTSTART:20250516T140000Z
DTEND:20250516T143000Z
X-MICROSOFT-CDO-ALLDAYEVENT:FALSE
SUMMARY:MOMMY & ME - Movement Exploration Class
DESCRIPTION:If you've got a little one that's full of vigor and energy - we want you to dance with us! This class is great for energetic\, inquisitive children and parents\, looking to bond over the joy of dancing. Expect guided exercises and fun prompts to entertain your little ones! Attire: Any sort of movement-appropriate clothing. From athletic wear to ballet attire - whatever you and your dancer feel best moving in! Don't forget to pre-book to guarantee you\, and your tiny dancer's spot. This class is great for little movers ages 6 months to 3 years old!
X-ALT-DESC;FMTTYPE=text/html:If you&rsquo\;ve got a little one that&rsquo\;s full of vigor and energy - we want you to dance with us! This class is great for energetic\, inquisitive children and parents\, looking to bond over the joy of dancing. Expect guided exercises and fun prompts to entertain your little ones! Attire: Any sort of movement-appropriate clothing. From athletic wear to ballet attire - whatever you and your dancer feel best moving in! Don&rsquo\;t forget to pre-book to guarantee you\, and your tiny dancer&rsquo\;s spot. This class is great for little movers ages 6 months to 3 years old!
LOCATION:Dance Colony Studios 4222 N. Ravenswood Ave.\, Suite 102. Entrance C Chicago IL 60613
UID:e.2566.13997
SEQUENCE:3
DTSTAMP:20260421T032118Z
URL:https://business.ravenswoodchicago.org/events/details/mommy-me-movement-exploration-class-05-16-2025-13997
END:VEVENT

END:VCALENDAR
