BEGIN:VCALENDAR
VERSION:2.0
PRODID:-//ChamberMaster//Event Calendar 2.0//EN
METHOD:PUBLISH
X-PUBLISHED-TTL:P3D
REFRESH-INTERVAL:P3D
CALSCALE:GREGORIAN
BEGIN:VEVENT
DTSTART:20241013T150000Z
DTEND:20241013T220000Z
X-MICROSOFT-CDO-ALLDAYEVENT:FALSE
SUMMARY:Modern Vintage
DESCRIPTION:From the successful group behind the Randolph Street market\, Chicago's premier Summer pop-up shopping destination comes Modern Vintage\, a one-day vintage apparel\, furniture\, and accessory celebration. Modern Vintage will showcase curated dealer collections spanning eras\, price points\, and styles. It's a place for vintage lovers to shop in a luxury environment\, express their personal style\, and meet like-minded fashion enthusiasts.
X-ALT-DESC;FMTTYPE=text/html:From the successful group behind the Randolph Street market\, Chicago&rsquo\;s premier Summer pop-up shopping destination comes Modern Vintage\, a one-day vintage apparel\, furniture\, and accessory celebration. Modern Vintage will showcase curated dealer collections spanning eras\, price points\, and styles. It&rsquo\;s a place for vintage lovers to shop in a luxury environment\, express their personal style\, and meet like-minded fashion enthusiasts.
LOCATION:Ravenswood Event Center 2041 N. Ravenswood Ave Chicago\, IL
UID:e.2566.11968
SEQUENCE:3
DTSTAMP:20260421T154626Z
URL:https://business.ravenswoodchicago.org/events/details/modern-vintage-11968
END:VEVENT

END:VCALENDAR
