BEGIN:VCALENDAR
VERSION:2.0
PRODID:-//ChamberMaster//Event Calendar 2.0//EN
METHOD:PUBLISH
X-PUBLISHED-TTL:P3D
REFRESH-INTERVAL:P3D
CALSCALE:GREGORIAN
BEGIN:VEVENT
DTSTART:20240622T230000Z
DTEND:20240623T050000Z
X-MICROSOFT-CDO-ALLDAYEVENT:FALSE
SUMMARY:Midnight Dawning: The Second
DESCRIPTION:An alchemical fusion\, a cosmic dance of Hip Hop\, Tech\, and visual arts twine together\, weaving through the airwaves of our modern minds.
X-ALT-DESC;FMTTYPE=text/html:An alchemical fusion\, a cosmic dance of Hip Hop\, Tech\, and visual arts twine together\, weaving through the airwaves of our modern minds.
LOCATION:Phygital Art Gallery/Childhood Fractured 1432 W. Irving Park Rd Chicago\, IL 60613
UID:e.2566.11870
SEQUENCE:3
DTSTAMP:20260421T223617Z
URL:https://business.ravenswoodchicago.org/events/details/midnight-dawning-the-second-11870
END:VEVENT

END:VCALENDAR
