BEGIN:VCALENDAR
VERSION:2.0
PRODID:-//ChamberMaster//Event Calendar 2.0//EN
METHOD:PUBLISH
X-PUBLISHED-TTL:P3D
REFRESH-INTERVAL:P3D
CALSCALE:GREGORIAN
BEGIN:VEVENT
DTSTART:20250601T160000Z
DTEND:20250602T000000Z
X-MICROSOFT-CDO-ALLDAYEVENT:FALSE
SUMMARY:Michael Bever Art Pop Up Show
DESCRIPTION:Pop Up Solo Art show by Michael Bever Art\n\nChicago Cityscapes.
X-ALT-DESC;FMTTYPE=text/html:Pop Up Solo Art show by Michael Bever Art<br />\nChicago Cityscapes.
LOCATION:2415 W Lawrence Ave Chicago\, IL
UID:e.2566.14015
SEQUENCE:3
DTSTAMP:20260421T015206Z
URL:https://business.ravenswoodchicago.org/events/details/michael-bever-art-pop-up-show-14015
END:VEVENT

END:VCALENDAR
