BEGIN:VCALENDAR
VERSION:2.0
PRODID:-//ChamberMaster//Event Calendar 2.0//EN
METHOD:PUBLISH
X-PUBLISHED-TTL:P3D
REFRESH-INTERVAL:P3D
CALSCALE:GREGORIAN
BEGIN:VEVENT
DTSTART:20250218T150000Z
DTEND:20250218T160000Z
X-MICROSOFT-CDO-ALLDAYEVENT:FALSE
SUMMARY:Messy Morning Moms Therapeutic Art Group
DESCRIPTION:Being a mom is beyond hard and is a whole lot of mess! And that's perfect. Join us for a therapeutic art group to provide space for moms to express\, explore\, and accept messy parenting in a creative\, supportive\, and non-judgmental space. \n\n\n\nOver five weeks in January and February\, we'll blend art making and discussion\, touching on relevant topics tailored to the needs of the group and central to being a mom. You'll gain insight into and further connect with who you are as a person in relation to your mom identity.\n\n\n\nNo art experience needed.
X-ALT-DESC;FMTTYPE=text/html:<p><span style="font-size:12px"><span style="font-family:times new roman"><big><small><span style="font-family:arial\,helvetica\,sans-serif"><samp><tt>Being a mom is beyond hard and is a whole lot of mess! And that&rsquo\;s perfect. Join us for a therapeutic art group to provide space for moms to express\, explore\, and accept messy parenting in a creative\, supportive\, and non-judgmental space.&nbsp\;<br />\n<br />\nOver five weeks in January and February\, we&#39\;ll blend art making and discussion\, touching on relevant topics tailored to the needs of the group and central to being a mom. You&#39\;ll gain insight into and further connect with who you are as a person in relation to your mom identity.<br />\n<br />\nNo art experience needed.</tt></samp></span></small></big></span></span></p>\n
LOCATION:Dandelion Therapeutic Art Center 1628 W. Montrose Chicago\, Illinois 60613 Register at officemanager@dandelionartstudio.com
UID:e.2566.13181
SEQUENCE:3
DTSTAMP:20260420T094826Z
URL:https://business.ravenswoodchicago.org/events/details/messy-morning-moms-therapeutic-art-group-02-18-2025-13181
END:VEVENT

END:VCALENDAR
