BEGIN:VCALENDAR
VERSION:2.0
PRODID:-//ChamberMaster//Event Calendar 2.0//EN
METHOD:PUBLISH
X-PUBLISHED-TTL:P3D
REFRESH-INTERVAL:P3D
CALSCALE:GREGORIAN
BEGIN:VEVENT
DTSTART:20250713T140000Z
DTEND:20250713T200000Z
X-MICROSOFT-CDO-ALLDAYEVENT:FALSE
SUMMARY:Mental Health First Aid Workshop
DESCRIPTION:Mental Health First Aid (MHFA) teaches you how to identify\, understand and respond to signs of mental health and substance use challenges in adults. This workshop is geared towards college age/young adults and their parents. \n\nThis blended training is 2 hours of self-led online content\, followed by a 5.5 hour in-person session.\n\nThe training will cover:\n\n\n	common signs & symptoms of mental health challenges \n	how to interact with a person in crisis\n	how to connect a person with help expanded content on trauma\, substance use and self-care
X-ALT-DESC;FMTTYPE=text/html:<p>Mental Health First Aid (MHFA) teaches you how to identify\, understand and respond to signs of mental health and substance use challenges in adults. This workshop is geared towards college age/young adults and their parents.&nbsp\;</p>\n\n<p><span style="font-size:13.5px">This blended training is 2 hours of self-led online content\, followed by a 5.5 hour&nbsp\;</span><span style="font-size:13.5px">in-person session.<br />\nThe training will cover:</span></p>\n\n<ul>\n	<li><span style="font-size:13.5px">common signs &amp\; symptoms of mental health challenges&nbsp\;</span></li>\n	<li><span style="font-size:13.5px">how to interact with a person in crisis</span></li>\n	<li><span style="font-size:13.5px"><span style="font-size:13.5px">how to connect a person with help expanded content on trauma\, substance use and self-care&nbsp\;</span></span></li>\n</ul>\n
LOCATION:Mind Body Connections 1802 W Berteau Suite 205 Chicago\, IL 60613
UID:e.2566.14029
SEQUENCE:3
DTSTAMP:20260420T220219Z
URL:https://business.ravenswoodchicago.org/events/details/mental-health-first-aid-workshop-07-13-2025-14029
END:VEVENT

END:VCALENDAR
