BEGIN:VCALENDAR
VERSION:2.0
PRODID:-//ChamberMaster//Event Calendar 2.0//EN
METHOD:PUBLISH
X-PUBLISHED-TTL:P3D
REFRESH-INTERVAL:P3D
CALSCALE:GREGORIAN
BEGIN:VEVENT
DTSTART:20250526T140000Z
DTEND:20250526T150000Z
X-MICROSOFT-CDO-ALLDAYEVENT:FALSE
SUMMARY:Memorial Day Group Fitness Class
DESCRIPTION:This energizing workout is designed for everyone\, no matter your fitness level. We'll start with a dynamic warm-up\, followed by strength exercises to build muscle\, and weave in some short conditioning drills to boost your cardiovascular health.
X-ALT-DESC;FMTTYPE=text/html:This energizing workout is designed for everyone\, no matter your fitness level. We&#39\;ll start with a dynamic warm-up\, followed by strength exercises to build muscle\, and weave in some short conditioning drills to boost your cardiovascular health.
LOCATION:EmpowerFit 1824 W Wilson Ave
UID:e.2566.14012
SEQUENCE:3
DTSTAMP:20260421T032117Z
URL:https://business.ravenswoodchicago.org/events/details/memorial-day-group-fitness-class-14012
END:VEVENT

END:VCALENDAR
