BEGIN:VCALENDAR
VERSION:2.0
PRODID:-//ChamberMaster//Event Calendar 2.0//EN
METHOD:PUBLISH
X-PUBLISHED-TTL:P3D
REFRESH-INTERVAL:P3D
CALSCALE:GREGORIAN
BEGIN:VEVENT
DTSTART;VALUE=DATE:20250524
DTEND;VALUE=DATE:20250525
TRANSP:TRANSPARENT
X-MICROSOFT-CDO-ALLDAYEVENT:TRUE
SUMMARY:Meet\, Pet & Paint with LIVE Fennec Foxes Fiona & Phoebe! Color Me Mine
DESCRIPTION:Meet\, Pet & Paint with LIVE Fennec Foxes Fiona & Phoebe! \n\nGet ready for the cutest\, fuzziest\, most wildly fun event you've ever been to!\n\nLIVE Fennec Foxes are coming to the studio! Meet\, pet\, and snap adorable pics with the tiny but mighty Fiona & Phoebe\, plus their exotic sidekicks a pair of playful sugar gliders and a super sweet hedgehog! \n\nWith all the squeals and snuggles\, it's time to paint too! Pick out a foxy ceramic piece (think mugs\, plates\, or figurines) and let your creativity run wild just like these little desert foxes!\n\nEvent Highlights:\n\n? Meet & pet Fiona & Phoebe\, the charming Fennec Foxes!\n\n? Hang out with a sugar glider & hedgehog!\n\n? Learn fun facts about these amazing animals.\n\n? Paint your own fox-inspired ceramic masterpiece!\n\nDate: Saturday\, May 24th\, 9am -11am\n\nAges 4 & up
X-ALT-DESC;FMTTYPE=text/html:<p><strong>Meet\, Pet &amp\; Paint with LIVE Fennec Foxes Fiona &amp\; Phoebe!&nbsp\;</strong></p>\n\n<p>Get ready for the&nbsp\;<em>cutest\, fuzziest\, most wildly fun event</em>&nbsp\;you&rsquo\;ve ever been to!</p>\n\n<p><strong>LIVE Fennec Foxes are coming to the studio!</strong>&nbsp\;Meet\, pet\, and snap adorable pics with the&nbsp\;<strong>tiny but mighty</strong>&nbsp\;Fiona &amp\; Phoebe\, plus their exotic sidekicks&mdash\;a pair of playful&nbsp\;<strong>sugar gliders</strong>&nbsp\;and a super sweet&nbsp\;<strong>hedgehog!</strong>&nbsp\;</p>\n\n<p><strong>With all the squeals and snuggles\, it&rsquo\;s time to paint too!</strong>&nbsp\;Pick out a foxy ceramic piece (think mugs\, plates\, or figurines) and let your creativity run wild&mdash\;just like these little desert foxes!</p>\n\n<p><strong>Event Highlights:</strong><br />\n? Meet &amp\; pet Fiona &amp\; Phoebe\, the charming Fennec Foxes!<br />\n? Hang out with a sugar glider &amp\; hedgehog!<br />\n? Learn fun facts about these amazing animals.<br />\n? Paint your own fox-inspired ceramic masterpiece!</p>\n\n<p><strong>Date:</strong>&nbsp\;Saturday\, May 24th\, 9am -11am</p>\n\n<p>Ages 4 &amp\; up</p>\n
LOCATION:Color Me Mine North Center 3849 N Lincoln Ave. Chicago\, IL 60613
UID:e.2566.13854
SEQUENCE:3
DTSTAMP:20260421T032208Z
URL:https://business.ravenswoodchicago.org/events/details/meet-pet-paint-with-live-fennec-foxes-fiona-phoebe-color-me-mine-13854
END:VEVENT

END:VCALENDAR
