BEGIN:VCALENDAR
VERSION:2.0
PRODID:-//ChamberMaster//Event Calendar 2.0//EN
METHOD:PUBLISH
X-PUBLISHED-TTL:P3D
REFRESH-INTERVAL:P3D
CALSCALE:GREGORIAN
BEGIN:VEVENT
DTSTART;VALUE=DATE:20250504
DTEND;VALUE=DATE:20250505
TRANSP:TRANSPARENT
X-MICROSOFT-CDO-ALLDAYEVENT:TRUE
SUMMARY:Meet\, Pet and paint a sloth themed ceramic! Color Me Mine
DESCRIPTION:Meet\, Pet and paint a sloth themed ceramic!\n\nSunday\, May 4th\, 10 am -12pm\n\nJoin us for a whimsical morning of creativity and cuddliness at our "Meet \, Pet & Paint with Stella- the Sloth" event!\n\nAges 4 & up.\n\nGet ready to embark on a colorful journey to capture the charm of everyone's favorite tree-dwelling friend the sloth!\n\nOur cozy painting studio will transform into a tropical oasis where slow and steady wins the art race.\n\n You will paint a Sloth Themed ceramic piece. No prior painting experience required just bring your enthusiasm and a sense of adventure!\n\n\n\nSloth Encounter: Get up close and personal with a real-life sloth!\n\nWe've partnered with a local wildlife sanctuary to bring you a unique opportunity to meet adorable Stella.\n\nLearn fascinating facts about sloths and maybe even find artistic inspiration in their laid-back lifestyle.\n\nInstagram-Worthy Moments: Capture your encounter with the sloth & share your artistic journey and adorable sloth encounters with friends and family.\n\nSecure your spot for a morning of laughter\, paint\, and slothful delight. Don't miss out on this one-of-a-kind experience reserve your seat today!\n\nLimited Seats Available.
X-ALT-DESC;FMTTYPE=text/html:<h3>Meet\, Pet and paint a sloth themed ceramic!</h3>\n\n<p><strong>Sunday\, May 4th\, 10 am -12pm</strong></p>\n\n<p>Join us for a whimsical morning of creativity and cuddliness at our &ldquo\;Meet \, Pet &amp\; Paint with Stella- the Sloth&rdquo\; event!<br />\nAges 4 &amp\; up.<br />\nGet ready to embark on a colorful journey to capture the charm of everyone&rsquo\;s favorite tree-dwelling friend&mdash\;the sloth!</p>\n\n<p>Our cozy painting studio will transform into a tropical oasis where slow and steady wins the art race.<br />\n&nbsp\;You will paint a Sloth Themed ceramic piece. No prior painting experience required&mdash\;just bring your enthusiasm and a sense of adventure!<br />\n<br />\n<strong>Sloth Encounter: Get up close and personal with a real-life sloth!</strong></p>\n\n<p>We&rsquo\;ve partnered with a local wildlife sanctuary to bring you a unique opportunity to meet adorable Stella.</p>\n\n<p>Learn fascinating facts about sloths and maybe even find artistic inspiration in their laid-back lifestyle.</p>\n\n<p><strong>Instagram-Worthy Moments:</strong>&nbsp\;Capture your encounter with the sloth &amp\; share your artistic journey and adorable sloth encounters with friends and family.<br />\nSecure your spot for a morning of laughter\, paint\, and slothful delight. Don&rsquo\;t miss out on this one-of-a-kind experience&mdash\;reserve your seat today!</p>\n\n<h4><strong>Limited Seats Available.</strong></h4>\n
LOCATION:Color Me Mine North Center 3849 N Lincoln Ave. Chicago\, IL 60613 312-975-6556 footerphone footermap footermail
UID:e.2566.13853
SEQUENCE:3
DTSTAMP:20260421T044936Z
URL:https://business.ravenswoodchicago.org/events/details/meet-pet-and-paint-a-sloth-themed-ceramic-color-me-mine-13853
END:VEVENT

END:VCALENDAR
