BEGIN:VCALENDAR
VERSION:2.0
PRODID:-//ChamberMaster//Event Calendar 2.0//EN
METHOD:PUBLISH
X-PUBLISHED-TTL:P3D
REFRESH-INTERVAL:P3D
CALSCALE:GREGORIAN
BEGIN:VEVENT
DTSTART:20241109T150000Z
DTEND:20241109T170000Z
X-MICROSOFT-CDO-ALLDAYEVENT:FALSE
SUMMARY:Meet a Live Sloth Day
DESCRIPTION:Join us for a whimsical morning of creativity and cuddliness at our "Meet & Paint \, Stella- the Sloth" event! Ages 4 & up. Get ready to embark on a colorful journey to capture the charm of everyone's favorite tree-dwelling friend the sloth! Our cozy painting studio will transform into a tropical oasis where slow and steady wins the art race. You will paint a Sloth Themed ceramic piece. No prior painting experience required just bring your enthusiasm and a sense of adventure! Sloth Encounter: Get up close and personal with a real-life sloth! We've partnered with a local wildlife sanctuary to bring you a unique opportunity to meet adorable Roxy. Learn fascinating facts about sloths and maybe even find artistic inspiration in their laid-back lifestyle. Instagram-Worthy Moments: We will capture your encounter with the sloth Share your artistic journey and adorable sloth encounters with friends and family. Secure your spot for a morning of laughter\, paint\, and slothful delight. Don't miss out on this one-of-a-kind experience reserve your seat today!
X-ALT-DESC;FMTTYPE=text/html:Join us for a whimsical morning of creativity and cuddliness at our &ldquo\;Meet &amp\; Paint \, Stella- the Sloth&rdquo\; event! Ages 4 &amp\; up. Get ready to embark on a colorful journey to capture the charm of everyone&rsquo\;s favorite tree-dwelling friend&mdash\;the sloth! Our cozy painting studio will transform into a tropical oasis where slow and steady wins the art race. You will paint a Sloth Themed ceramic piece. No prior painting experience required&mdash\;just bring your enthusiasm and a sense of adventure! Sloth Encounter: Get up close and personal with a real-life sloth! We&rsquo\;ve partnered with a local wildlife sanctuary to bring you a unique opportunity to meet adorable Roxy. Learn fascinating facts about sloths and maybe even find artistic inspiration in their laid-back lifestyle. Instagram-Worthy Moments: We will capture your encounter with the sloth Share your artistic journey and adorable sloth encounters with friends and family. Secure your spot for a morning of laughter\, paint\, and slothful delight. Don&rsquo\;t miss out on this one-of-a-kind experience&mdash\;reserve your seat today!
LOCATION:Color Me mine \, North Center
UID:e.2566.12021
SEQUENCE:3
DTSTAMP:20260421T124754Z
URL:https://business.ravenswoodchicago.org/events/details/meet-a-live-sloth-day-12021
END:VEVENT

END:VCALENDAR
