BEGIN:VCALENDAR
VERSION:2.0
PRODID:-//ChamberMaster//Event Calendar 2.0//EN
METHOD:PUBLISH
X-PUBLISHED-TTL:P3D
REFRESH-INTERVAL:P3D
CALSCALE:GREGORIAN
BEGIN:VEVENT
DTSTART;VALUE=DATE:20241109
DTEND;VALUE=DATE:20241110
TRANSP:TRANSPARENT
X-MICROSOFT-CDO-ALLDAYEVENT:TRUE
SUMMARY:Meet a Live Sloth Day
DESCRIPTION:Meet\, Pet and paint a sloth themed ceramic!\n\nNovember 9th\, 9am\n\nJoin us for a whimsical morning of creativity and cuddliness at our "Meet & Paint \, Stella- the Sloth" event!\n\nAges 4 & up.\n\nGet ready to embark on a colorful journey to capture the charm of everyone's favorite tree-dwelling friend the sloth!\n\nOur cozy painting studio will transform into a tropical oasis where slow and steady wins the art race.\n\n You will paint a Sloth Themed ceramic piece. No prior painting experience required just bring your enthusiasm and a sense of adventure!\n\n\n\nSloth Encounter: Get up close and personal with a real-life sloth!\n\nWe've partnered with a local wildlife sanctuary to bring you a unique opportunity to meet adorable Roxy.\n\nLearn fascinating facts about sloths and maybe even find artistic inspiration in their laid-back lifestyle.\n\nInstagram-Worthy Moments: We will capture your encounter with the sloth Share your artistic journey and adorable sloth encounters with friends and family.\n\nSecure your spot for a morning of laughter\, paint\, and slothful delight. Don't miss out on this one-of-a-kind experience reserve your seat today!
X-ALT-DESC;FMTTYPE=text/html:<p><span style="font-size:14.0pt">Meet\, Pet and paint a sloth themed ceramic!</span></p>\n\n<p><span style="font-size:14.0pt">November 9th\, 9am</span></p>\n\n<p><span style="font-size:14.0pt">Join us for a whimsical morning of creativity and cuddliness at our &ldquo\;Meet &amp\; Paint \, Stella- the Sloth&rdquo\; event!<br />\nAges 4 &amp\; up.<br />\nGet ready to embark on a colorful journey to capture the charm of everyone&rsquo\;s favorite tree-dwelling friend&mdash\;the sloth!</span></p>\n\n<p><span style="font-size:14.0pt">Our cozy painting studio will transform into a tropical oasis where slow and steady wins the art race.<br />\n&nbsp\;You will paint a Sloth Themed ceramic piece. No prior painting experience required&mdash\;just bring your enthusiasm and a sense of adventure!<br />\n<br />\nSloth Encounter: Get up close and personal with a real-life sloth!</span></p>\n\n<p><span style="font-size:14.0pt">We&rsquo\;ve partnered with a local wildlife sanctuary to bring you a unique opportunity to meet adorable Roxy.</span></p>\n\n<p><span style="font-size:14.0pt">Learn fascinating facts about sloths and maybe even find artistic inspiration in their laid-back lifestyle.</span></p>\n\n<p><strong><span style="font-size:14.0pt">Instagram-Worthy Moments:</span></strong><span style="font-size:14.0pt">&nbsp\;We will capture your encounter with the sloth Share your artistic journey and adorable sloth encounters with friends and family.<br />\nSecure your spot for a morning of laughter\, paint\, and slothful delight. Don&rsquo\;t miss out on this one-of-a-kind experience&mdash\;reserve your seat today!</span></p>\n
LOCATION:I Color Me Mine North Center Chicago
UID:e.2566.12025
SEQUENCE:3
DTSTAMP:20260421T141227Z
URL:https://business.ravenswoodchicago.org/events/details/meet-a-live-sloth-day-11-09-2024-12025
END:VEVENT

END:VCALENDAR
