BEGIN:VCALENDAR
VERSION:2.0
PRODID:-//ChamberMaster//Event Calendar 2.0//EN
METHOD:PUBLISH
X-PUBLISHED-TTL:P3D
REFRESH-INTERVAL:P3D
CALSCALE:GREGORIAN
BEGIN:VEVENT
DTSTART:20250504T150000Z
DTEND:20250504T203000Z
X-MICROSOFT-CDO-ALLDAYEVENT:FALSE
SUMMARY:May the Fourth Be With You – Intro to Needlepoint at Maydel
DESCRIPTION:Celebrate May the 4th with a space-themed intro to needlepoint!\n\nLearn how to create your very own solar system in wool! This course will teach students how to start and stop threads utilizing a counted canvas ground\, along with principles of tent-stitch shading in wool threads\, by blending colors in the needle with stitching.\n\nRegistration fee includes all materials\, including pre-drawn needlepoint canvas\, wool threads\, needle\, and printed instruction booklet.
X-ALT-DESC;FMTTYPE=text/html:<p>Celebrate May the 4th with a space-themed intro to needlepoint!</p>\n\n<p>Learn how to create your very own solar system in wool! This course will teach students how to start and stop threads utilizing a counted canvas ground\, along with principles of tent-stitch shading in wool threads\, by blending colors in the needle with stitching.</p>\n\n<p>Registration fee includes all materials\, including pre-drawn needlepoint canvas\, wool threads\, needle\, and printed instruction booklet.</p>\n
LOCATION:1746 W Wilson Ave\, Chicago 60640
UID:e.2566.13639
SEQUENCE:3
DTSTAMP:20260421T032142Z
URL:https://business.ravenswoodchicago.org/events/details/may-the-fourth-be-with-you-intro-to-needlepoint-at-maydel-13639
END:VEVENT

END:VCALENDAR
