BEGIN:VCALENDAR
VERSION:2.0
PRODID:-//ChamberMaster//Event Calendar 2.0//EN
METHOD:PUBLISH
X-PUBLISHED-TTL:P3D
REFRESH-INTERVAL:P3D
CALSCALE:GREGORIAN
BEGIN:VEVENT
DTSTART:20250520T160000Z
DTEND:20250520T180000Z
X-MICROSOFT-CDO-ALLDAYEVENT:FALSE
SUMMARY:MASTERCLASS - NOELLE KAYSER
DESCRIPTION:Masterclass with Noelle Kayser: The class begins with a continuous warm-up that weaves together various technical forms and momentum-based movement. In this extended practice masterclass series\, the second hour will offer a deeper dive into improvisational ideas\, partner work\, and choreographic process.
X-ALT-DESC;FMTTYPE=text/html:Masterclass with Noelle Kayser: The class begins with a continuous warm-up that weaves together various technical forms and momentum-based movement. In this extended practice masterclass series\, the second hour will offer a deeper dive into improvisational ideas\, partner work\, and choreographic process.
LOCATION:Dance Colony Studios 4222 N. Ravenswood Ave.\, Suite 102. Entrance C Chicago IL 60613
UID:e.2566.13990
SEQUENCE:3
DTSTAMP:20260421T044507Z
URL:https://business.ravenswoodchicago.org/events/details/masterclass-noelle-kayser-13990
END:VEVENT

END:VCALENDAR
