BEGIN:VCALENDAR
VERSION:2.0
PRODID:-//ChamberMaster//Event Calendar 2.0//EN
METHOD:PUBLISH
X-PUBLISHED-TTL:P3D
REFRESH-INTERVAL:P3D
CALSCALE:GREGORIAN
BEGIN:VEVENT
DTSTART:20250624T153000Z
DTEND:20250624T170000Z
X-MICROSOFT-CDO-ALLDAYEVENT:FALSE
SUMMARY:MASTER CLASS - MAGGIE VANNUCCI
DESCRIPTION:This weekly space is geared towards experienced movers. A low-stakes environment\, to engage with your movement practice while connecting with community. My class focuses on efficient release-based phrases. Starting slow and low\, with Bartenief fundamentals to tune in first through somatic awareness. We then play with some improvisation tasks\, focusing on explorations using gravity\, planes of space\, the floor as a tool\, and clear initiation points while also warming our bodies. The rest of our practice is centered around rich phrase work incorporating and complicating what we explored in our improvisation. Class phrases are interested in hardly finding verticality while also making transitions more fluid and seamless. The movement consistently challenges the body to stay relaxed and efficient with the use of our muscles.  I am invested in cultivating a space of open conversation about somatic sensory experiences throughout the class\, as well as a space for experimenting with pathways that are efficient to your unique anatomy.
X-ALT-DESC;FMTTYPE=text/html:This weekly space is geared towards experienced movers. A low-stakes environment\, to engage with your movement practice while connecting with community. My class focuses on efficient release-based phrases. Starting slow and low\, with Bartenief fundamentals to tune in first through somatic awareness. We then play with some improvisation tasks\, focusing on explorations using gravity\, planes of space\, the floor as a tool\, and clear initiation points while also warming our bodies. The rest of our practice is centered around rich phrase work incorporating and complicating what we explored in our improvisation. Class phrases are interested in hardly finding verticality while also making transitions more fluid and seamless. The movement consistently challenges the body to stay relaxed and efficient with the use of our muscles.&nbsp\; I am invested in cultivating a space of open conversation about somatic sensory experiences throughout the class\, as well as a space for experimenting with pathways that are efficient to your unique anatomy.
LOCATION:Dance Colony Studios 4222 N. Ravenswood Ave.\, Suite 102. Entrance C Chicago IL 60613
UID:e.2566.14006
SEQUENCE:3
DTSTAMP:20260421T015200Z
URL:https://business.ravenswoodchicago.org/events/details/master-class-maggie-vannucci-06-24-2025-14006
END:VEVENT

END:VCALENDAR
