BEGIN:VCALENDAR
VERSION:2.0
PRODID:-//ChamberMaster//Event Calendar 2.0//EN
METHOD:PUBLISH
X-PUBLISHED-TTL:P3D
REFRESH-INTERVAL:P3D
CALSCALE:GREGORIAN
BEGIN:VEVENT
DTSTART:20250509T160000Z
DTEND:20250509T170000Z
X-MICROSOFT-CDO-ALLDAYEVENT:FALSE
SUMMARY:Map the Nervous System: A Polyvagal Exploration
DESCRIPTION:Ever wonder about the role your nervous system plays in self-regulation? In this workshop\, a brief overview of the Polyvagal Theory in Therapy will be presented. Once a basic foundation is set\, participants will be guided through an embodied mapping process of their own nervous systems. Clinical and creative interventions will be explored as ways to bring material to clients.
X-ALT-DESC;FMTTYPE=text/html:<strong>Ever wonder about the role your nervous system plays in self-regulation? In this workshop\, a brief overview of the Polyvagal Theory in Therapy will be presented. Once a basic foundation is set\, participants will be guided through an embodied mapping process of their own nervous systems. Clinical and creative interventions will be explored as ways to bring material to clients.</strong>
LOCATION:Virtual
UID:e.2566.13850
SEQUENCE:3
DTSTAMP:20260421T031840Z
URL:https://business.ravenswoodchicago.org/events/details/map-the-nervous-system-a-polyvagal-exploration-13850
END:VEVENT

END:VCALENDAR
