BEGIN:VCALENDAR
VERSION:2.0
PRODID:-//ChamberMaster//Event Calendar 2.0//EN
METHOD:PUBLISH
X-PUBLISHED-TTL:P3D
REFRESH-INTERVAL:P3D
CALSCALE:GREGORIAN
BEGIN:VEVENT
DTSTART:20240626T223000Z
DTEND:20240627T013000Z
X-MICROSOFT-CDO-ALLDAYEVENT:FALSE
SUMMARY:Malt Row on Damen
DESCRIPTION:Enjoy sips from Chicago's craft beverage community and explore a creative mix of small businesses at Malt Row on Damen!\n\nLocal breweries and distilleries pair with neighborhood businesses to showcase the best of Ravenswood in one summer evening. Taste a fantastic selection of locally crafted beer\, spirits and wine as you stroll between local shops and galleries. Malt Row on Damen takes place along Damen Ave between Wilson and Argyle\, from 5:30 to 8:30 PM on Wednesday\, June 26\, 2024.\n\n\nClick here to purchase tickets!\n\nJoining us from across Malt Row \n\n\n	Begyle Brewing\n	Cultivate by Forbidden Root\n	Dovetail Brewery\n	Gnome Brew\n	Half Acre Beer Co\n	Hop Butcher For The World\n	Is/Was Brewing\n	KOVAL Distillery\n	Spiteful Brewing\n	VIN312\n\n\nHosting us along Damen Ave...\n\n\n	District\n	Falcon's Handcrafted Sandwiches\n	Mint Home\n	MOLASSES\n	Noble Coyote Tattoo\n	Platform 47\n	Ponnopozz\n	Ravensgoods\n\n\nMalt Row on Damen is a rare opportunity to sample a variety of our neighborhood's breweries\, distilleries and wineries at one event. It's also a unique way to explore and support the eclectic mix of entrepreneurs doing business on Damen. First\, you'll check-in at Platform 47 (4709 N Damen Ave) to get your wristband\, punch card\, tasting glass and coozie\, and tote bag. Then\, you're off to sample some cold brews and check out some cool local businesses!\n\n\n\nThis event is 21+ and will be held rain or shine from 5:30pm to 8:30pm. Check-in time is from 5:30pm to 7:30pm. Alcoholic beverages can not leave the premises where they are poured. IDs will be checked. All ticket sales are final.\n\nMalt Row on Damen is proudly presented by the Greater Ravenswood Chamber of Commerce\, SSA#31\, Malt Row\, Gio's Bar & Grill\, and Hazel.
X-ALT-DESC;FMTTYPE=text/html:<h3>Enjoy sips from Chicago&#39\;s craft beverage community and explore a creative mix of small businesses at Malt Row on Damen!</h3>\n\n<p>Local breweries and distilleries pair with neighborhood businesses to showcase the best of Ravenswood in one summer evening. Taste a fantastic selection of locally crafted beer\, spirits and wine as you stroll between local shops and galleries. Malt Row on Damen takes place along Damen Ave between Wilson and Argyle\, from 5:30 to 8:30 PM on Wednesday\, June 26\, 2024.</p>\n\n<div avant="" century="" font-size:="">\n<p century="" clear:="" color:="" line-height:=""><strong><a href="https://www.eventbrite.com/e/888541961927?aff=oddtdtcreator" target="_blank">Click here to purchase tickets!</a></strong></p>\n\n<p century="" clear:="" color:="" line-height:=""><strong>Joining us from across Malt Row&hellip\;</strong></p>\n\n<ul>\n	<li value="1"><a href="http://www.begylebrewing.com/" rel="nofollow noopener noreferrer ugc" target="_blank" title="http://www.begylebrewing.com/">Begyle Brewing</a></li>\n	<li value="2"><a href="http://www.forbiddenroot.com/cultivate" rel="nofollow noopener noreferrer ugc" target="_blank" title="http://www.forbiddenroot.com/cultivate">Cultivate by Forbidden Root</a></li>\n	<li value="3"><a href="https://dovetailbrewery.com/" rel="nofollow noopener noreferrer ugc" target="_blank" title="https://dovetailbrewery.com/">Dovetail Brewery</a></li>\n	<li value="4"><a href="https://gnomebrewshop.com/" rel="nofollow noopener noreferrer ugc" target="_blank" title="https://gnomebrewshop.com/">Gnome Brew</a></li>\n	<li value="5"><a href="https://halfacrebeer.com/" rel="nofollow noopener noreferrer ugc" target="_blank" title="https://halfacrebeer.com/">Half Acre Beer Co</a></li>\n	<li value="6"><a href="https://www.hopbutcher.com/" rel="nofollow noopener noreferrer ugc" target="_blank" title="https://www.hopbutcher.com/">Hop Butcher For The World</a></li>\n	<li value="7"><a href="https://www.iswasbrewing.com/" rel="nofollow noopener noreferrer ugc" target="_blank" title="https://www.iswasbrewing.com/">Is/Was Brewing</a></li>\n	<li value="8"><a href="http://www.koval-distillery.com/" rel="nofollow noopener noreferrer ugc" target="_blank" title="http://www.koval-distillery.com/">KOVAL Distillery</a></li>\n	<li value="9"><a href="http://www.spitefulbrewing.com/" rel="nofollow noopener noreferrer ugc" target="_blank" title="http://www.spitefulbrewing.com/">Spiteful Brewing</a></li>\n	<li value="10"><a href="https://www.vin312.com/" rel="nofollow noopener noreferrer ugc" target="_blank" title="https://www.vin312.com/">VIN312</a></li>\n</ul>\n\n<p><strong>Hosting us along Damen Ave...</strong></p>\n\n<ul>\n	<li value="1"><a href="http://www.districtchicago.com/" rel="nofollow noopener noreferrer ugc" target="_blank" title="http://www.districtchicago.com/">District</a></li>\n	<li value="2"><a href="https://www.falconshandcraftedsandwiches.com/" rel="nofollow noopener noreferrer ugc" target="_blank" title="https://www.falconshandcraftedsandwiches.com/">Falcon&rsquo\;s Handcrafted Sandwiches</a></li>\n	<li value="3"><a href="https://minthomechicago.com/" rel="nofollow noopener noreferrer ugc" target="_blank" title="https://minthomechicago.com/">Mint Home</a></li>\n	<li value="4"><a href="https://www.shopmolasses.com/" rel="nofollow noopener noreferrer ugc" target="_blank" title="https://www.shopmolasses.com/">MOLASSES</a></li>\n	<li value="5"><a href="https://www.noblecoyotetattoo.com/" rel="nofollow noopener noreferrer ugc" target="_blank" title="https://www.noblecoyotetattoo.com/">Noble Coyote Tattoo</a></li>\n	<li value="6"><a href="https://www.platform47chicago.com/home" rel="nofollow noopener noreferrer ugc" target="_blank" title="https://www.platform47chicago.com/home">Platform 47</a></li>\n	<li value="7"><a href="https://ponnopozz.com/" rel="nofollow noopener noreferrer ugc" target="_blank" title="https://ponnopozz.com/">Ponnopozz</a></li>\n	<li value="8"><a href="https://ravensgoods.bigcartel.com/" rel="nofollow noopener noreferrer ugc" target="_blank" title="https://ravensgoods.bigcartel.com/">Ravensgoods</a></li>\n</ul>\n\n<p century="" clear:="" color:="" line-height:="">Malt Row on Damen is a rare opportunity to sample a variety of our neighborhood&rsquo\;s breweries\, distilleries and wineries at one event. It&rsquo\;s also a unique way to explore and support the eclectic mix of entrepreneurs doing business on Damen. First\, you&rsquo\;ll <strong>check-in at Platform 47 (4709 N Damen Ave)</strong> to get your wristband\, punch card\, tasting glass and coozie\, and tote bag. Then\, you&rsquo\;re off to sample some cold brews and check out some cool local businesses!</p>\n</div>\n\n<div avant="" century="" font-size:="">\n<p><strong>This event is 21+</strong> and will be held rain or shine from 5:30pm to 8:30pm. <strong>Check-in time is from 5:30pm to 7:30pm. </strong>Alcoholic beverages can not leave the premises where they are poured. IDs will be checked. <strong>All ticket sales are final.</strong></p>\n\n<p>Malt Row on Damen is proudly presented by the<a href="https://ravenswoodchicago.org/do-business/" rel="nofollow noopener noreferrer ugc" target="_blank" title="https://ravenswoodchicago.org/do-business/"> Greater Ravenswood Chamber of Commerce</a>\, <a href="https://ravenswoodchicago.org/ravenswood-ssa31/" rel="nofollow noopener noreferrer ugc" target="_blank" title="https://ravenswoodchicago.org/ravenswood-ssa31/">SSA#31</a>\, <a href="https://ravenswoodchicago.org/neighborhood/malt-row/" rel="nofollow noopener noreferrer ugc" target="_blank" title="https://ravenswoodchicago.org/neighborhood/malt-row/">Malt Row</a>\, <a href="https://giosbbqbarandgrill.com/" rel="nofollow noopener noreferrer ugc" target="_blank" title="https://giosbbqbarandgrill.com/">Gio&#39\;s Bar &amp\; Grill</a>\, and <a href="https://hazelchicago.com/" rel="nofollow noopener noreferrer ugc" target="_blank" title="https://hazelchicago.com/">Hazel</a>.</p>\n</div>\n
LOCATION:Along Damen Avenue from Wilson to Argyle
UID:e.2566.8537
SEQUENCE:3
DTSTAMP:20260422T000846Z
URL:https://business.ravenswoodchicago.org/events/details/malt-row-on-damen-8537
END:VEVENT

END:VCALENDAR
