BEGIN:VCALENDAR
VERSION:2.0
PRODID:-//ChamberMaster//Event Calendar 2.0//EN
METHOD:PUBLISH
X-PUBLISHED-TTL:P3D
REFRESH-INTERVAL:P3D
CALSCALE:GREGORIAN
BEGIN:VEVENT
DTSTART:20240814T233000Z
DTEND:20240815T010000Z
X-MICROSOFT-CDO-ALLDAYEVENT:FALSE
SUMMARY:Malt Row Hoppy Hour: Easy Drinkers
DESCRIPTION:Malt Row Hoppy Hour is an intimate tasting and learning series hosted by some of your favorite Chicago breweries and distilleries.\n\nThe Ravenswood Industrial Corridor and surrounding area is home to a vibrant craft beverage producing community. Known to some as Malt Row\, our neighborhood has earned a reputation as "Chicago's most diverse beer destination." At our Hoppy Hour series\, you have a chance to taste locally crafted beers and spirits while learning about them from the folks who create them.\n\nIf you want to know more about how what you consume is made\, or you just like chatting about beer\, this series is for you. Malt Row Hoppy Hours are casual\, inclusive events open to enthusiasts of all knowledge levels.\n\nJoin us at Begyle Brewing for a guided tasting and conversation focused on easy drinking beers. We know and love them   clean\, light\, and refreshing ales and lagers perfect for a late summer evening! Learn about the ingredients and brewing methods\, flavor profiles\, and why these crisp beers always keep us coming back for more.\n\nTickets include admission and four 5oz beer tastings\, plus 10% off of full pours and beer to-go.\n\nIs there anything better to help soak up beer than pizza? We don't think so. Chicago's Pizza will be providing pizza for everyone to snack on before and during the event.\n\n\n\nClick Here to Register\, or visit: https://www.eventbrite.com/e/malt-row-hoppy-hour-easy-drinkers-tickets-891856445637?aff=oddtdtcreator\n\n\n\nMalt Row Hoppy Hours are presented by the Greater Ravenswood Chamber of Commerce\, SSA #31\, Erwin Law\, and Chicago's Pizza.
X-ALT-DESC;FMTTYPE=text/html:<p>Malt Row Hoppy Hour is an intimate tasting and learning series hosted by some of your favorite Chicago breweries and distilleries.</p>\n\n<p>The Ravenswood Industrial Corridor and surrounding area is home to a vibrant craft beverage producing community. Known to some as <a href="https://ravenswoodchicago.org/neighborhood/malt-row/" rel="nofollow noopener noreferrer ugc" target="_blank" title="https://ravenswoodchicago.org/neighborhood/malt-row/">Malt Row</a>\, our neighborhood has earned a reputation as &ldquo\;Chicago&rsquo\;s most diverse beer destination.&rdquo\; At our Hoppy Hour series\, you have a chance to taste locally crafted beers and spirits while learning about them from the folks who create them.</p>\n\n<p>If you want to know more about how what you consume is made\, or you just like chatting about beer\, this series is for you. Malt Row Hoppy Hours are casual\, inclusive events open to enthusiasts of all knowledge levels.</p>\n\n<p>Join us at <a href="https://www.begylebrewing.com/" rel="nofollow noopener noreferrer ugc" target="_blank" title="https://www.begylebrewing.com/">Begyle Brewing</a> for a guided tasting and conversation focused on easy drinking beers. We know and love them &ndash\; clean\, light\, and refreshing ales and lagers perfect for a late summer evening! Learn about the ingredients and brewing methods\, flavor profiles\, and why these crisp beers always keep us coming back for more.</p>\n\n<p>Tickets include admission and four 5oz beer tastings\, plus 10% off of full pours and beer to-go.</p>\n\n<p>Is there anything better to help soak up beer than pizza? We don&#39\;t think so. Chicago&#39\;s Pizza will be providing pizza for everyone to snack on before and during the event.<br />\n<br />\n<a href="https://www.eventbrite.com/e/malt-row-hoppy-hour-easy-drinkers-tickets-891856445637?aff=oddtdtcreator"><strong><span style="background-color: rgb(255\, 255\, 224)\;">Click Here to Register</span></strong></a>\, or visit:&nbsp\;https://www.eventbrite.com/e/malt-row-hoppy-hour-easy-drinkers-tickets-891856445637?aff=oddtdtcreator<br />\n<br />\nMalt Row Hoppy Hours are presented by the <a href="https://ravenswoodchicago.org/" rel="nofollow noopener noreferrer ugc" target="_blank" title="https://ravenswoodchicago.org/">Greater Ravenswood Chamber of Commerce</a>\, <a href="https://ravenswoodchicago.org/ravenswood-ssa31/" rel="nofollow noopener noreferrer ugc" target="_blank" title="https://ravenswoodchicago.org/ravenswood-ssa31/">SSA #31</a>\, <a href="https://erwinlawfirm.com/" rel="nofollow noopener noreferrer ugc" target="_blank" title="https://erwinlawfirm.com/">Erwin Law</a>\, and <a href="https://www.chicagos-pizza.com/" rel="nofollow noopener noreferrer ugc" target="_blank" title="https://www.chicagos-pizza.com/">Chicago&#39\;s Pizza</a>.</p>\n
LOCATION:Begyle Brewing 1800 W Cuyler Ave Chicago\, IL 60613
UID:e.2566.8541
SEQUENCE:3
DTSTAMP:20260421T171003Z
URL:https://business.ravenswoodchicago.org/events/details/malt-row-hoppy-hour-easy-drinkers-8541
END:VEVENT

END:VCALENDAR
