BEGIN:VCALENDAR
VERSION:2.0
PRODID:-//ChamberMaster//Event Calendar 2.0//EN
METHOD:PUBLISH
X-PUBLISHED-TTL:P3D
REFRESH-INTERVAL:P3D
CALSCALE:GREGORIAN
BEGIN:VEVENT
DTSTART:20250408T180000Z
DTEND:20250408T190000Z
X-MICROSOFT-CDO-ALLDAYEVENT:FALSE
SUMMARY:Making Matters for Senior Adults
DESCRIPTION:Dandelion Therapeutic Art Center's Adult Making Matters group provides those 65 and older with a creative community to continue to explore who you are in this phase of your life. Through the artmaking process and guidance of a Dandelion art therapist\, you will nurture a sense of community\, belonging\, and self by thoughtfully engaging in the creative process.\n\n\n\nAfter five weeks\, you will leave this group with a new way of experiencing yourself and a better understanding of how to use artmaking to navigate everyday life.\n\n\n\nArt making is known to foster resilience\, adaptability\, focus\, and joy.\n\n\n\nJoin us! Tuesdays: April 1 through 29\n\n1:00 to 2:00 p.m.\n\nCost: $150 for five sessions plus a one-time $10 art material fee\n\n\n\nDandelion Therapeutic Art Center\n\n1628 W. Montrose\n\nChicago 60613
X-ALT-DESC;FMTTYPE=text/html:<span style="color:rgb(0\, 0\, 0)">Dandelion Therapeutic Art Center&#39\;s Adult Making Matters group provides those 65 and older with a creative community to continue to explore who you are in this phase of your life. Through the artmaking process and guidance of a Dandelion art therapist\, you will nurture a sense of community\, belonging\, and self by thoughtfully engaging in the creative process.<br />\n<br />\nAfter five weeks\, you will leave this group with a new way of experiencing yourself and a better understanding of how to use artmaking to navigate everyday life.<br />\n<br />\nArt making is known to foster resilience\, adaptability\, focus\, and joy.<br />\n<br />\nJoin us! Tuesdays: April 1 through 29<br />\n1:00 to 2:00 p.m.<br />\nCost: $150 for five sessions plus a one-time $10 art material fee</span><br />\n<br />\nDandelion Therapeutic Art Center<br />\n1628 W. Montrose<br />\nChicago 60613
LOCATION:
UID:e.2566.13607
SEQUENCE:3
DTSTAMP:20260421T044735Z
URL:https://business.ravenswoodchicago.org/events/details/making-matters-for-senior-adults-04-08-2025-13607
END:VEVENT

END:VCALENDAR
