BEGIN:VCALENDAR
VERSION:2.0
PRODID:-//ChamberMaster//Event Calendar 2.0//EN
METHOD:PUBLISH
X-PUBLISHED-TTL:P3D
REFRESH-INTERVAL:P3D
CALSCALE:GREGORIAN
BEGIN:VEVENT
DTSTART:20250405T193000Z
DTEND:20250405T213000Z
X-MICROSOFT-CDO-ALLDAYEVENT:FALSE
SUMMARY:Macrame Wall Hanging Workshop
DESCRIPTION:Learn how to make your own geometric macrame decor in this fun and customizable project! This is a great introduction to macrame with a few simple knots and optional weaving and square knots for added texture. Choose from 10+ cord colors to match your style - natural\, sand\, black\, navy\, sky blue\, lavender\, forest green\, mint\, mustard\, rust\, peach\, and cranberry! No macrame experience is needed for this one - we will provide detailed instructions + examples. Share this link with a friend or gift a ticket to a loved one to craft together for a special occasion or just because! Solo crafters are always welcome and encouraged too
X-ALT-DESC;FMTTYPE=text/html:Learn how to make your own geometric macrame decor in this fun and customizable project! This is a great introduction to macrame with a few simple knots and optional weaving and square knots for added texture. Choose from 10+ cord colors to match your style - natural\, sand\, black\, navy\, sky blue\, lavender\, forest green\, mint\, mustard\, rust\, peach\, and cranberry! No macrame experience is needed for this one - we will provide detailed instructions + examples. Share this link with a friend or gift a ticket to a loved one to craft together for a special occasion or just because! Solo crafters are always welcome and encouraged too
LOCATION:Indigo & Violet Studio - 1411 W. Irving Park Rd.
UID:e.2566.13644
SEQUENCE:3
DTSTAMP:20260421T055743Z
URL:https://business.ravenswoodchicago.org/events/details/macrame-wall-hanging-workshop-13644
END:VEVENT

END:VCALENDAR
