BEGIN:VCALENDAR
VERSION:2.0
PRODID:-//ChamberMaster//Event Calendar 2.0//EN
METHOD:PUBLISH
X-PUBLISHED-TTL:P3D
REFRESH-INTERVAL:P3D
CALSCALE:GREGORIAN
BEGIN:VEVENT
DTSTART:20260321T150000Z
DTEND:20260321T180000Z
X-MICROSOFT-CDO-ALLDAYEVENT:FALSE
SUMMARY:Lycée Français de Chicago: 2026 Spring Open House
DESCRIPTION:The Lyc e Fran ais de Chicago (LFC) will host its Spring Open House on Saturday\, March 21\, from 10:00 am to 1:00 pm. The LFC offers far more than excellent academics\; it invites families into a rich\, international educational experience. We are excited to welcome you to learn more about our programs and our globally-minded community. Our all-school Open House will showcast our two signature programs:\n\n	Maternelle (Pre-K to K): Families will enjoy interactive activities in both English and French\, giving them a real sense of what it feels like to be part of the Lyc e.\n	High School IB (taught fully in English): Families will have the opportunity to learn more about our rigorous IB program and see firsthand how we prepare students for global opportunities.\n\nWe look forward to welcoming you with coffee and warm conversations. Please register.
X-ALT-DESC;FMTTYPE=text/html:The Lyc&eacute\;e Fran&ccedil\;ais de Chicago (LFC) will host its Spring&nbsp\;Open House&nbsp\;on Saturday\, March 21\, from 10:00 am to 1:00 pm. The LFC offers far more than excellent academics\; it invites families into a rich\, international educational experience. We are excited to welcome you to learn more about our programs and our globally-minded community. Our all-school&nbsp\;Open House&nbsp\;will showcast our two signature programs:\n<ol>\n	<li><span style="color:inherit">Maternelle (Pre-K to K): Families will enjoy interactive activities in both English and French\, giving them a real sense of what it feels like to be part of the Lyc&eacute\;e.</span></li>\n	<li><span style="color:inherit">High School IB (taught fully in English): Families will have the opportunity to learn more about our rigorous IB program and see firsthand how we prepare students for global opportunities.</span></li>\n</ol>\nWe look forward to welcoming you with coffee and warm conversations. <a href="https://www.lyceechicago.org/admissions/tours-events" target="_blank">Please register</a>.
LOCATION:Lyc e Fran ais de Chicago - The French International School
UID:e.2566.15480
SEQUENCE:3
DTSTAMP:20260420T121918Z
URL:https://business.ravenswoodchicago.org/events/details/lyc&#233;e-fran&#231;ais-de-chicago-spring-open-house-15480
END:VEVENT

END:VCALENDAR
