BEGIN:VCALENDAR
VERSION:2.0
PRODID:-//ChamberMaster//Event Calendar 2.0//EN
METHOD:PUBLISH
X-PUBLISHED-TTL:P3D
REFRESH-INTERVAL:P3D
CALSCALE:GREGORIAN
BEGIN:VEVENT
DTSTART:20240811T000000Z
DTEND:20240811T030000Z
X-MICROSOFT-CDO-ALLDAYEVENT:FALSE
SUMMARY:Live Narrative Painting Art Show: Childhood Fractured Fundraiser
DESCRIPTION:This is a fundraising art event showcasing all the paintings Allen Vandever has created for Childhood Fractured\, through his Live Narrative Speaking Engagements. This engagement will feature the paintings of his personal journey of abuse. This is an opportunity to learn about Childhood Fractured and our mission to end child sexual abuse by providing resources\, education\, and community support to foster resilience\, healing\, and safe adults to protect children from being victims of sexual exploitation. Event Highlights: * Live Narrative Painting: Witness the creation of stunning artworks that tell powerful stories. * Silent Auction: Bid on a variety of items\, generously donated by local businesses. * Networking Opportunities: Meet and connect with other like-minded individuals and businesses.
X-ALT-DESC;FMTTYPE=text/html:This is a fundraising art event showcasing all the paintings Allen Vandever has created for Childhood Fractured\, through his Live Narrative Speaking Engagements. This engagement will feature the paintings of his personal journey of abuse. This is an opportunity to learn about Childhood Fractured and our mission to end child sexual abuse by providing resources\, education\, and community support to foster resilience\, healing\, and safe adults to protect children from being victims of sexual exploitation. Event Highlights: * Live Narrative Painting: Witness the creation of stunning artworks that tell powerful stories. * Silent Auction: Bid on a variety of items\, generously donated by local businesses. * Networking Opportunities: Meet and connect with other like-minded individuals and businesses.
LOCATION:Childhood Fractured 1432 W. Irving Park Rd Chicago\, IL 60613
UID:e.2566.11914
SEQUENCE:3
DTSTAMP:20260421T172804Z
URL:https://business.ravenswoodchicago.org/events/details/live-narrative-painting-art-show-childhood-fractured-fundraiser-11914
END:VEVENT

END:VCALENDAR
