BEGIN:VCALENDAR
VERSION:2.0
PRODID:-//ChamberMaster//Event Calendar 2.0//EN
METHOD:PUBLISH
X-PUBLISHED-TTL:P3D
REFRESH-INTERVAL:P3D
CALSCALE:GREGORIAN
BEGIN:VEVENT
DTSTART:20240421T220000Z
DTEND:20240422T000000Z
X-MICROSOFT-CDO-ALLDAYEVENT:FALSE
SUMMARY:Live Music from Yomi in KOVAL's Tasting Room
DESCRIPTION:Come grab a drink and listen to Yomi play a set in our tasting room.
X-ALT-DESC;FMTTYPE=text/html:Come grab a drink and listen to Yomi play a<span style="color:rgb(61\, 69\, 77)\; font-family:sqmarket\,helvetica neue\,helvetica\,sans-serif\; font-size:14px">&nbsp\;set in our tasting room.</span>
LOCATION:KOVAL Tasting Room 4241 N Ravenswood Ave Chicago\, IL 60613
UID:e.2566.8411
SEQUENCE:3
DTSTAMP:20260422T015156Z
URL:https://business.ravenswoodchicago.org/events/details/live-music-from-yomi-in-koval-s-tasting-room-8411
END:VEVENT

END:VCALENDAR
