BEGIN:VCALENDAR
VERSION:2.0
PRODID:-//ChamberMaster//Event Calendar 2.0//EN
METHOD:PUBLISH
X-PUBLISHED-TTL:P3D
REFRESH-INTERVAL:P3D
CALSCALE:GREGORIAN
BEGIN:VEVENT
DTSTART:20250425T150000Z
DTEND:20250427T210000Z
X-MICROSOFT-CDO-ALLDAYEVENT:FALSE
SUMMARY:Level 1: Somatic-Concentric Sex Therapy Training
DESCRIPTION:Somatic-Concentric Sex Therapy course is 14 years in the making\, designed by Melissa Walker MA\, R-DMT\, LPC\, CST (she/her) who crafted a union of sex therapy with somatic psychotherapy and dance/movement therapy. Melissa designed it with the working therapist in mind. You will learn an experiential model for understanding and working with the sexuality of your clients that includes assessment tools\, interventions\, applications for the individual and those in relationship\, as well as an embodied ethical decision-making method to work through the boundary issues that inevitably arise in therapy.\n\nAfter this course\, you will have the tools to get clients out of the talk therapy space and into their bodies as you guide them through a somatic-based experience that will help them ally with their sexuality. The goal is for these tools to be incorporated into your practice with your own style and flair as you too will be guided through experientials that help you learn this model from the inside out.\n\nBring your excitement\, your curiosity\, and your wisdom as we learn together how to rewrite sex-negative\, disembodied sex/ual/ity. The possibilities are truly endless.
X-ALT-DESC;FMTTYPE=text/html:<p>Somatic-Concentric Sex Therapy course is 14 years in the making\, designed by Melissa Walker MA\, R-DMT\, LPC\, CST (she/her) who crafted a union of sex therapy with somatic psychotherapy and dance/movement therapy. Melissa designed it with the working therapist in mind. You will learn an experiential model for understanding and working with the sexuality of your clients that includes assessment tools\, interventions\, applications for the individual and those in relationship\, as well as an embodied ethical decision-making method to work through the boundary issues that inevitably arise in therapy.</p>\n\n<p>After this course\, you will have the tools to get clients out of the talk therapy space and into their bodies as you guide them through a somatic-based experience that will help them ally with their sexuality. The goal is for these tools to be incorporated into your practice with your own style and flair as you too will be guided through experientials that help you learn this model from the inside out.</p>\n\n<p>Bring your excitement\, your curiosity\, and your wisdom as we learn together how to rewrite sex-negative\, disembodied sex/ual/ity. The possibilities are truly endless.</p>\n
LOCATION:1802 W. Berteau\, Suite 205\, Chicago
UID:e.2566.13631
SEQUENCE:3
DTSTAMP:20260421T044858Z
URL:https://business.ravenswoodchicago.org/events/details/level-1-somatic-concentric-sex-therapy-training-13631
END:VEVENT

END:VCALENDAR
