BEGIN:VCALENDAR
VERSION:2.0
PRODID:-//ChamberMaster//Event Calendar 2.0//EN
METHOD:PUBLISH
X-PUBLISHED-TTL:P3D
REFRESH-INTERVAL:P3D
CALSCALE:GREGORIAN
BEGIN:VEVENT
DTSTART:20240725T170000Z
DTEND:20240726T000000Z
X-MICROSOFT-CDO-ALLDAYEVENT:FALSE
SUMMARY:LENA ROSE BEAUTY Sip + Shop Storewide Sale!
DESCRIPTION:Lena Rose Beauty\, Chicago's 1st Green Beauty Spa & Shop is hosting a Sip & Shop event. Stop by either location (Chicago or Naperville) anytime between 12 pm - 7pm for a beverage while enjoying some fun shopping and great deals on all things holistic!\n\n\n\nNon-members will enjoy 20% off the entire store (exception: Laurel brand) and members will enjoy 30% off the entire store (exception: Laurel brand). We hope to see you there!
X-ALT-DESC;FMTTYPE=text/html:<span style="font-family:arial\,helvetica\,sans-serif\; font-size:16px">Lena Rose Beauty\, Chicago&#39\;s 1st Green Beauty Spa &amp\; Shop is hosting a Sip &amp\; Shop event. Stop by either location (Chicago or Naperville) anytime between 12 pm - 7pm for a beverage while enjoying some fun shopping and great deals on all things holistic!</span><br />\n<br />\n<span style="font-family:arial\,helvetica\,sans-serif\; font-size:16px">Non-members will enjoy 20% off the entire store (exception: Laurel brand) and members will enjoy 30% off the entire store (exception: Laurel brand). We hope to see you there!</span>
LOCATION:Chicago: 4645 N Rockwell St\, Chicago\, IL 60625 Naperville: 14 Jackson Ave\, Naperville\, IL 60540
UID:e.2566.11903
SEQUENCE:3
DTSTAMP:20260421T183801Z
URL:https://business.ravenswoodchicago.org/events/details/lena-rose-beauty-sip-shop-storewide-sale-11903
END:VEVENT

END:VCALENDAR
