BEGIN:VCALENDAR
VERSION:2.0
PRODID:-//ChamberMaster//Event Calendar 2.0//EN
METHOD:PUBLISH
X-PUBLISHED-TTL:P3D
REFRESH-INTERVAL:P3D
CALSCALE:GREGORIAN
BEGIN:VEVENT
DTSTART:20210924T230000Z
DTEND:20210925T010000Z
X-MICROSOFT-CDO-ALLDAYEVENT:FALSE
SUMMARY:Lawn Lounge Concert: CM@B 21-22 Concert Season Preview! (Art Song\, Classical)
DESCRIPTION:Come hear a taste of Chamber Music at Bethany's '21-'22 season\, featuring acclaimed soprano Emily Birsan and including acclaimed co-Artistic Directors pianist Yasuko Oura and cellist Nick Photinos in a concert spanning art songs by Chaminade and Viardot to Dvorak\, Bernstein\, and even Japanese folk songs!\n\n\n\nLawn Lounge Outdoor Concert Series- Every Friday at 6pm\, BYOB\, Freewill donation.
X-ALT-DESC;FMTTYPE=text/html:<span style="font-size:16px\;"><span style="font-family:arial\;">Come hear a taste of Chamber Music at Bethany&rsquo\;s &rsquo\;21-&rsquo\;22 season\, featuring acclaimed soprano Emily Birsan and including acclaimed co-Artistic Directors pianist Yasuko Oura and cellist Nick Photinos in a concert spanning art songs by Chaminade and Viardot to Dvorak\, Bernstein\, and even Japanese folk songs!</span></span><br />\n<br />\n<span style="font-size:16px\;"><span style="font-family:arial\;"><em><strong>Lawn Lounge Outdoor Concert Series</strong>- Every Friday at 6pm\, BYOB\, Freewill donation.</em></span></span><br />\n&nbsp\;
LOCATION:Bethany United 4250 North Paulina St. Chicago\, IL 60613
UID:e.2566.4536
SEQUENCE:3
DTSTAMP:20260424T004034Z
URL:https://business.ravenswoodchicago.org/events/details/lawn-lounge-concert-cm-b-21-22-concert-season-preview-art-song-classical-4536
END:VEVENT

END:VCALENDAR
