BEGIN:VCALENDAR
VERSION:2.0
PRODID:-//ChamberMaster//Event Calendar 2.0//EN
METHOD:PUBLISH
X-PUBLISHED-TTL:P3D
REFRESH-INTERVAL:P3D
CALSCALE:GREGORIAN
BEGIN:VEVENT
DTSTART:20240823T233000Z
DTEND:20240824T014500Z
X-MICROSOFT-CDO-ALLDAYEVENT:FALSE
SUMMARY:Lace & Martini Night - Ladies Pottery Painting Night!
DESCRIPTION:Lace & Martini Night: An Evening of Elegant Creativity and Sophistication\n\nJoin us for Lace & Martini Night\, an exclusive event where art and elegance intertwine in perfect harmony! Get ready to unleash your creativity with a lace technique pottery painting session while sipping on your favorite martini.\n\nEvent Highlights:\n\nLace Technique Pottery Painting\n\n\n	Learn the intricate and beautiful lace technique to create stunning\, delicate patterns on your pottery pieces. Our skilled instructor will guide you through each step\, ensuring you leave with a masterpiece to be proud of.\n\n\nBring Your Own Martini\n\n\n	Whether you prefer a classic martini or a creative concoction\, bring your favorite mix to enjoy while you paint. \n\n\nMusic & Mingling\n\n\n	Enjoy a curated playlist of smooth jazz and lounge music that sets the mood for a night of creativity and connection. Mingle with fellow guests and share your artistic journey while savoring your martini.\n\n\nLace-Inspired Attire\n\n\n	Embrace the theme and wear something with a touch of lace. Whether it's a lace dress\, shirt\, or accessory\, let your outfit reflect the elegance and sophistication of the evening.\n\n\nTicket price covers studio fee and instruction\, you pay for the pottery piece you select to paint at studio.
X-ALT-DESC;FMTTYPE=text/html:<h2>Lace &amp\; Martini Night: An Evening of Elegant Creativity and Sophistication</h2>\n\n<p>Join us for&nbsp\;<strong>Lace &amp\; Martini Night</strong>\, an exclusive event where art and elegance intertwine in perfect harmony! Get ready to unleash your creativity with a lace technique pottery painting session while sipping on your favorite martini.</p>\n\n<h3>Event Highlights:</h3>\n\n<p><strong>Lace Technique Pottery Painting</strong></p>\n\n<ul>\n	<li>Learn the intricate and beautiful lace technique to create stunning\, delicate patterns on your pottery pieces. Our skilled instructor will guide you through each step\, ensuring you leave with a masterpiece to be proud of.</li>\n</ul>\n\n<p><strong>Bring Your Own Martini</strong></p>\n\n<ul>\n	<li>Whether you prefer a classic martini or a creative concoction\, bring your favorite mix to enjoy while you paint.&nbsp\;</li>\n</ul>\n\n<p><strong>Music &amp\; Mingling</strong></p>\n\n<ul>\n	<li>Enjoy a curated playlist of smooth jazz and lounge music that sets the mood for a night of creativity and connection. Mingle with fellow guests and share your artistic journey while savoring your martini.</li>\n</ul>\n\n<p><strong>Lace-Inspired Attire</strong></p>\n\n<ul>\n	<li>Embrace the theme and wear something with a touch of lace. Whether it&rsquo\;s a lace dress\, shirt\, or accessory\, let your outfit reflect the elegance and sophistication of the evening.</li>\n</ul>\n\n<p>Ticket price covers studio fee and instruction\, you pay for the pottery piece you select to paint at studio.</p>\n
LOCATION:COLOR ME MINE 3849 N LINCOLN AVE\, CHICAGO\, IL 60613
UID:e.2566.11927
SEQUENCE:3
DTSTAMP:20260421T172555Z
URL:https://business.ravenswoodchicago.org/events/details/lace-martini-night-ladies-pottery-painting-night-11927
END:VEVENT

END:VCALENDAR
