BEGIN:VCALENDAR
VERSION:2.0
PRODID:-//ChamberMaster//Event Calendar 2.0//EN
METHOD:PUBLISH
X-PUBLISHED-TTL:P3D
REFRESH-INTERVAL:P3D
CALSCALE:GREGORIAN
BEGIN:VEVENT
DTSTART:20250626T000000Z
DTEND:20250626T010000Z
X-MICROSOFT-CDO-ALLDAYEVENT:FALSE
SUMMARY:KOVAL at the Beach Cocktail Class
DESCRIPTION:Join us as we make cocktails that would be perfect for all your beach plans this summer!\n\nClass includes the instruction and enjoyment of 3 cocktails\, with the guidance of an instructor and provided recipes. All bartending equipment is included - simply show up ready to learn!
X-ALT-DESC;FMTTYPE=text/html:<p>Join us as we make cocktails that would be perfect for all your beach plans this summer!</p>\n\n<p>Class includes the instruction and enjoyment of 3 cocktails\, with the guidance of an instructor and provided recipes. All bartending equipment is included - simply show up ready to learn!</p>\n
LOCATION:KOVAL Distillery\, 4241 N Ravenswood
UID:e.2566.14010
SEQUENCE:3
DTSTAMP:20260421T031912Z
URL:https://business.ravenswoodchicago.org/events/details/koval-at-the-beach-cocktail-class-14010
END:VEVENT

END:VCALENDAR
