BEGIN:VCALENDAR
VERSION:2.0
PRODID:-//ChamberMaster//Event Calendar 2.0//EN
METHOD:PUBLISH
X-PUBLISHED-TTL:P3D
REFRESH-INTERVAL:P3D
CALSCALE:GREGORIAN
BEGIN:VEVENT
DTSTART:20250603T140000Z
DTEND:20250606T040000Z
X-MICROSOFT-CDO-ALLDAYEVENT:FALSE
SUMMARY:Kingdom Kamp @ DANCE COLONY Studios
DESCRIPTION:DANCE COLONY STUDIOS is excited to offer a series of summer dance camps for KIDZ with an enthusiasm for movement & that love FLEXING THEIR CREATIVE MUSCLES! This summer our inspiring team of professional educators will be hosting 4 weeks of themed summer camps. Each day will consist of dance classes in multiple styles (ballet\, jazz\, hip-hop)\, an arts & crafts project\, and a snack. There will be a final showing to wrap up the camp on Thursday at 10:40am. These camps are designed for beginner to intermediate level movers\, ages 3-6.
X-ALT-DESC;FMTTYPE=text/html:DANCE COLONY STUDIOS is excited to offer a series of summer dance camps for KIDZ with an enthusiasm for movement &amp\; that love FLEXING THEIR CREATIVE MUSCLES! This summer our inspiring team of professional educators will be hosting 4 weeks of themed summer camps. Each day will consist of dance classes in multiple styles (ballet\, jazz\, hip-hop)\, an arts &amp\; crafts project\, and a snack. There will be a final showing to wrap up the camp on Thursday at 10:40am. These camps are designed for beginner to intermediate level movers\, ages 3-6.
LOCATION:4222 N. Ravenswood Ave.\, Suite 102. Entrance C Chicago IL 60613
UID:e.2566.13867
SEQUENCE:3
DTSTAMP:20260421T031743Z
URL:https://business.ravenswoodchicago.org/events/details/kingdom-kamp-dance-colony-studios-13867
END:VEVENT

END:VCALENDAR
