BEGIN:VCALENDAR
VERSION:2.0
PRODID:-//ChamberMaster//Event Calendar 2.0//EN
METHOD:PUBLISH
X-PUBLISHED-TTL:P3D
REFRESH-INTERVAL:P3D
CALSCALE:GREGORIAN
BEGIN:VEVENT
DTSTART:20250714T130000Z
DTEND:20250718T170000Z
X-MICROSOFT-CDO-ALLDAYEVENT:FALSE
SUMMARY:Kids Summer Yoga Program
DESCRIPTION:This unique summer camp option offers yoga\, fun movement\, mindfulness games\, and simple arts & crafts for campers aged 9-12 years old. It's designed to engage your children in developing new skills while exploring themselves and their surroundings.\n\nwith Bridget & Laurie\n\n \n\nDATES:  2 separate sessions\n\nJuly 14 - 18 2025\n\nAugust 11 - 15 2025\n\n\n\n \n\nSample Schedule:\n\nBridget\n\n8:00-8:15 - arrival\n\n8:15 - 8:30  - sharing circle\n\n8:40 - 9:10  - Yogisays \n\n9:15 - 9:30 - hula hooping! \n\n9:35 - 9:50 - give them time to settle then\, breathing \n\n9:55 - 10:00/10:05 - meditation\n\nLaurie\n\n10:10 - 10:25 -snack (Laurie comes in Bridget leaves)\n\n10:30 - 10:35- clean up\n\n10:40 - 11:15- YOGA\n\n11:20 - 11:50 - simple arts & crafts\n\n11:50 - 12:00 pick up window
X-ALT-DESC;FMTTYPE=text/html:<p style="text-align:center">This unique summer camp option offers yoga\, fun movement\, mindfulness games\, and simple arts &amp\; crafts for campers aged 9-12 years old. It&rsquo\;s designed to engage your children in developing new skills while exploring themselves and their surroundings.</p>\n\n<p style="text-align:center">with Bridget &amp\; Laurie</p>\n\n<p style="text-align:center">&nbsp\;</p>\n\n<p style="text-align:center">DATES:&nbsp\;<strong> 2 separate sessions</strong></p>\n\n<p style="text-align:center">July 14 - 18 2025</p>\n\n<p style="text-align:center">August 11 - 15 2025<br />\n<br />\n&nbsp\;</p>\n\n<p><span style="background-color:var(--ricos-custom-p-background-color\,unset)">Sample Schedule:</span></p>\n\n<p style="text-align:initial"><span style="background-color:var(--ricos-custom-p-background-color\,unset)">Bridget</span></p>\n\n<p style="text-align:initial"><span style="background-color:var(--ricos-custom-p-background-color\,unset)">8:00-8:15 - arrival</span></p>\n\n<p style="text-align:initial"><span style="background-color:var(--ricos-custom-p-background-color\,unset)">8:15 - 8:30&nbsp\; - sharing circle</span></p>\n\n<p style="text-align:initial"><span style="background-color:var(--ricos-custom-p-background-color\,unset)">8:40 - 9:10&nbsp\; - Yogisays&nbsp\;</span></p>\n\n<p style="text-align:initial"><span style="background-color:var(--ricos-custom-p-background-color\,unset)">9:15 - 9:30 - hula hooping!&nbsp\;</span></p>\n\n<p style="text-align:initial"><span style="background-color:var(--ricos-custom-p-background-color\,unset)">9:35 - 9:50 - give them time to settle then\, breathing&nbsp\;</span></p>\n\n<p style="text-align:initial"><span style="background-color:var(--ricos-custom-p-background-color\,unset)">9:55 - 10:00/10:05 - meditation</span></p>\n\n<p style="text-align:initial"><span style="background-color:var(--ricos-custom-p-background-color\,unset)">Laurie</span></p>\n\n<p style="text-align:initial"><span style="background-color:var(--ricos-custom-p-background-color\,unset)">10:10 - 10:25 -snack (Laurie comes in Bridget leaves)</span></p>\n\n<p style="text-align:initial"><span style="background-color:var(--ricos-custom-p-background-color\,unset)">10:30 - 10:35- clean up</span></p>\n\n<p style="text-align:initial"><span style="background-color:var(--ricos-custom-p-background-color\,unset)">10:40 - 11:15- YOGA</span></p>\n\n<p style="text-align:initial"><span style="background-color:var(--ricos-custom-p-background-color\,unset)">11:20 - 11:50 - simple arts &amp\; crafts</span></p>\n\n<p style="text-align:initial"><span style="background-color:var(--ricos-custom-p-background-color\,unset)">11:50 - 12:00 pick up window</span></p>\n
LOCATION:Pistachio Yoga 5206 N Damen Avenue Chicago\, IL 60625
UID:e.2566.13337
SEQUENCE:3
DTSTAMP:20260420T215111Z
URL:https://business.ravenswoodchicago.org/events/details/kids-summer-yoga-program-13337
END:VEVENT

END:VCALENDAR
