BEGIN:VCALENDAR
VERSION:2.0
PRODID:-//ChamberMaster//Event Calendar 2.0//EN
METHOD:PUBLISH
X-PUBLISHED-TTL:P3D
REFRESH-INTERVAL:P3D
CALSCALE:GREGORIAN
BEGIN:VEVENT
DTSTART:20250620T193000Z
DTEND:20250620T213000Z
X-MICROSOFT-CDO-ALLDAYEVENT:FALSE
SUMMARY:Joel Hall Breathing Jazz Floor WERKQ Masterclass @ Joel Hall Dancers & Center\, 4511 N. Clark Street\, Chicago\, IL
DESCRIPTION:Joel Hall Dancers & Center\npresent our Masterclass series:\n\n \nJoel Hall Breathing Jazz Floor WERKQ Masterclass\n\nDate: Friday\, June 20th\, 2025\n\nTime: 2:30pm-4:30pm (2hr)\n\nRSVP ($25)\n\nJoel Hall has been teaching\, refining\, and perfecting his unique\, world-renowned style of Urban Jazz Dance one of the last true Jazz dance styles available in the 21st century.\n\n \n\nJoel Hall's Breathing Jazz Floor WERKQ is a codified Barre technique that focuses on strength\, flexibility\, and longevity so that you can feel and perform your best\, not just for a few years but for life.\n\n \n\nLearn directly from Joel Hall himself.\n\n \n\nArmed with the spark\, the rigor\, and the technique\, be a part of the legacy.\n\n\n\nLocation:\n\nJoel Hall Dancers & Center\n\n4511 N. Clark St.\n\nChicago\, IL 60640\n\n(773) 888-0477 x103\n\n\n\nCheck for upcoming events: www.joelhall.org/events
X-ALT-DESC;FMTTYPE=text/html:<h1>Joel Hall Dancers &amp\; Center</h1>\npresent our Masterclass series:<br />\n&nbsp\;\n<h3><strong>Joel Hall Breathing Jazz Floor WERKQ Masterclass</strong></h3>\n\n<h3>Date: Friday\, June 20th\, 2025<br />\nTime: 2:30pm-4:30pm (2hr)<br />\n<a href="https://clients.mindbodyonline.com/classic/ws?studioid=20511&amp\;sclassid=2438&amp\;sDate=6/20/2025&amp\;sLoc=1&amp\;sTG=30&amp\;sType=1">RSVP&nbsp\;</a>($25)</h3>\n\n<div>Joel Hall has been teaching\, refining\, and perfecting his unique\, world-renowned style of Urban Jazz Dance&mdash\;one of the last true Jazz dance styles available in the 21st century.</div>\n\n<div>&nbsp\;</div>\n\n<div>Joel Hall&#39\;s&nbsp\;<strong>Breathing Jazz Floor WERKQ&nbsp\;</strong>is a codified&nbsp\;<strong>Barre&nbsp\;</strong>technique that focuses on strength\, flexibility\, and longevity so that you can feel and perform your best\, not just for a few years&mdash\;but for life.</div>\n\n<div>&nbsp\;</div>\n\n<div>Learn directly from Joel Hall himself.</div>\n\n<div>&nbsp\;</div>\n\n<div>Armed with the spark\, the rigor\, and the technique\, be a part of the legacy.</div>\n\n<p><br />\n<strong>Location</strong>:<br />\nJoel Hall Dancers &amp\; Center<br />\n4511 N. Clark St.<br />\nChicago\, IL 60640<br />\n(773) 888-0477 x103</p>\n\n<p><br />\nCheck for upcoming events:&nbsp\;<a href="https://www.joelhall.org/events">www.joelhall.org/events</a></p>\n\n<p>&nbsp\;</p>\n
LOCATION:Joel Hall Dancers & Center 4511 N. Clark Street Chicago\, IL 60640
UID:e.2566.13875
SEQUENCE:3
DTSTAMP:20260421T015636Z
URL:https://business.ravenswoodchicago.org/events/details/joel-hall-breathing-jazz-floor-werkq-masterclass-joel-hall-dancers-center-4511-n-clark-street-chicago-il-13875
END:VEVENT

END:VCALENDAR
