BEGIN:VCALENDAR
VERSION:2.0
PRODID:-//ChamberMaster//Event Calendar 2.0//EN
METHOD:PUBLISH
X-PUBLISHED-TTL:P3D
REFRESH-INTERVAL:P3D
CALSCALE:GREGORIAN
BEGIN:VEVENT
DTSTART:20250824T160000Z
DTEND:20250824T180000Z
X-MICROSOFT-CDO-ALLDAYEVENT:FALSE
SUMMARY:Jazz Frühschoppen Brunch ft. Jim Holman Duo
DESCRIPTION:Savor the sounds of smooth jazz and the flavors of a traditional German brunch high above the city. Join us on the rooftop of the DANK Haus for a relaxing Sunday morning featuring live jazz by the Jim Holman Duo and stunning views of the Chicago Skyline. Enjoy a curated buffet of classic German breakfast offerings\, including fresh Br tchen (crusty rolls)\, assorted deli meats and cheeses\, soft-boiled eggs\, marmelade and butter\, yogurt with museli\, Bavarian Wei wurst with sweet mustard\, and more. Your ticket includes a European buffet breakfast\, coffee\, tea\, and orange juice. Beer\, Radlar\, champagne\, and mimosas will be available for purchase.
X-ALT-DESC;FMTTYPE=text/html:Savor the sounds of smooth jazz and the flavors of a traditional German brunch high above the city. Join us on the rooftop of the DANK Haus for a relaxing Sunday morning featuring live jazz by the Jim Holman Duo and stunning views of the Chicago Skyline. Enjoy a curated buffet of classic German breakfast offerings\, including fresh Br&ouml\;tchen (crusty rolls)\, assorted deli meats and cheeses\, soft-boiled eggs\, marmelade and butter\, yogurt with museli\, Bavarian Wei&szlig\;wurst with sweet mustard\, and more. Your ticket includes a European buffet breakfast\, coffee\, tea\, and orange juice. Beer\, Radlar\, champagne\, and mimosas will be available for purchase.
LOCATION:4740 N Western Avenue\, Chicago\, IL 60625
UID:e.2566.14572
SEQUENCE:3
DTSTAMP:20260420T204637Z
URL:https://business.ravenswoodchicago.org/events/details/jazz-fr&#252;hschoppen-brunch-ft-jim-holman-duo-14572
END:VEVENT

END:VCALENDAR
