BEGIN:VCALENDAR
VERSION:2.0
PRODID:-//ChamberMaster//Event Calendar 2.0//EN
METHOD:PUBLISH
X-PUBLISHED-TTL:P3D
REFRESH-INTERVAL:P3D
CALSCALE:GREGORIAN
BEGIN:VEVENT
DTSTART:20250427T150000Z
DTEND:20250427T210000Z
X-MICROSOFT-CDO-ALLDAYEVENT:FALSE
SUMMARY:Introduction to Goldwork Embroidery at Maydel
DESCRIPTION:In this class\, students will learn several basic historical goldwork techniques to create a raised leaf that can be finished as a framed piece or a cutwork brooch.\n\nThis class is best for students with some prior experience with embroidery or hand sewing.\n\nTechniques included:\n\n\n	Basic identification of several metalwork threads\n	Metal thread handling\n	Proper thread waxing\n	Cut work\n	Couching\n	Goldwork applique\n	Applying spangles\n\n\nRegistration fee includes the cost of all needed materials\, including real gilt wire threads and spangles\, fabric\, needles\, real wool felt\, and locally made beeswax.
X-ALT-DESC;FMTTYPE=text/html:<p>In this class\, students will learn several basic historical goldwork techniques to create a raised leaf that can be finished as a framed piece or a cutwork brooch.</p>\n\n<p>This class is best for students with some prior experience with embroidery or hand sewing.</p>\n\n<p>Techniques included:</p>\n\n<ul>\n	<li>Basic identification of several metalwork threads</li>\n	<li>Metal thread handling</li>\n	<li>Proper thread waxing</li>\n	<li>Cut work</li>\n	<li>Couching</li>\n	<li>Goldwork applique</li>\n	<li>Applying spangles</li>\n</ul>\n\n<p>Registration fee includes the cost of all needed materials\, including real gilt wire threads and spangles\, fabric\, needles\, real wool felt\, and locally made beeswax.</p>\n
LOCATION:1746 W Wilson Ave\, Chicago 60640
UID:e.2566.13341
SEQUENCE:3
DTSTAMP:20260421T044653Z
URL:https://business.ravenswoodchicago.org/events/details/introduction-to-goldwork-embroidery-at-maydel-13341
END:VEVENT

END:VCALENDAR
