BEGIN:VCALENDAR
VERSION:2.0
PRODID:-//ChamberMaster//Event Calendar 2.0//EN
METHOD:PUBLISH
X-PUBLISHED-TTL:P3D
REFRESH-INTERVAL:P3D
CALSCALE:GREGORIAN
BEGIN:VEVENT
DTSTART:20250308T160000Z
DTEND:20250308T213000Z
X-MICROSOFT-CDO-ALLDAYEVENT:FALSE
SUMMARY:Introduction to Embroidery at Maydel
DESCRIPTION:Students will spend the day practicing several of the most commonly used embroidery stitches as they create a sampler to showcase what they've learned. The January 26th session will cover all of the following:\n\n\n	Satin stitch\n	Buttonhole stitch\n	French knots\n	Backstitch\n	Whipped backstitch\n	Chain stitch\n	Whipped chain stitch\n	Trellis stitch\n	Stem stitch\n\n\nThis class will also introduce you to foundational embroidery skills such as how to thread the needle\, how to start and end your threads\, and how to stretch fabric in an embroidery hoop.\n\nGreat for absolute beginners as well as stitchers who want to brush up on their skills.\n\nPrice includes all materials\, including silk and cotton fabrics\, needles\, embroidery floss\, perle cotton thread\, gum paste wires\, and full-color printed instruction booklet.
X-ALT-DESC;FMTTYPE=text/html:<p>Students will spend the day practicing several of the most commonly used embroidery stitches as they create a sampler to showcase what they&rsquo\;ve learned. The January 26th session will cover all of the following:</p>\n\n<ul>\n	<li>Satin stitch</li>\n	<li>Buttonhole stitch</li>\n	<li>French knots</li>\n	<li>Backstitch</li>\n	<li>Whipped backstitch</li>\n	<li>Chain stitch</li>\n	<li>Whipped chain stitch</li>\n	<li>Trellis stitch</li>\n	<li>Stem stitch</li>\n</ul>\n\n<p>This class will also introduce you to foundational embroidery skills such as how to thread the needle\, how to start and end your threads\, and how to stretch fabric in an embroidery hoop.</p>\n\n<p>Great for absolute beginners as well as stitchers who want to brush up on their skills.</p>\n\n<p>Price includes all materials\, including silk and cotton fabrics\, needles\, embroidery floss\, perle cotton thread\, gum paste wires\, and full-color printed instruction booklet.</p>\n
LOCATION:1746 W Wilson Ave\, Chicago 60640
UID:e.2566.13334
SEQUENCE:3
DTSTAMP:20260421T073856Z
URL:https://business.ravenswoodchicago.org/events/details/introduction-to-embroidery-at-maydel-03-08-2025-13334
END:VEVENT

END:VCALENDAR
