BEGIN:VCALENDAR
VERSION:2.0
PRODID:-//ChamberMaster//Event Calendar 2.0//EN
METHOD:PUBLISH
X-PUBLISHED-TTL:P3D
REFRESH-INTERVAL:P3D
CALSCALE:GREGORIAN
BEGIN:VEVENT
DTSTART:20250613T160000Z
DTEND:20250613T170000Z
X-MICROSOFT-CDO-ALLDAYEVENT:FALSE
SUMMARY:Introduction to Dance/Movement Therapy Supervision
DESCRIPTION:Clinical supervision is an essential component of the progression of development for novice therapists\, with researchers suggesting that supervision has become the primary means for ongoing counselor growth and development. In this one-hour workshop\, participants will learn about the history and evolving understanding of dance/movement therapy specific supervision\, emerging with a definition and basic theoretical underpinnings of the practice. Akin to this\, the workshop will provide an overview of techniques and practices commonly utilized as well as supervisee learning outcomes for DMT supervision. Participants will leave with a greater understanding of the unique approach and thus the unique possibilities for further engagement with embodied\, experiential supervision.
X-ALT-DESC;FMTTYPE=text/html:<span style="color:rgb(37\, 37\, 37)\; font-family:source serif pro\,sans-serif\; font-size:18px">Clinical supervision is an essential component of the progression of development for novice therapists\, with researchers suggesting that supervision has become the primary means for ongoing counselor growth and development. In this one-hour workshop\, participants will learn about the history and evolving understanding of dance/movement therapy specific supervision\, emerging with a definition and basic theoretical underpinnings of the practice. Akin to this\, the workshop will provide an overview of techniques and practices commonly utilized as well as supervisee learning outcomes for DMT supervision. Participants will leave with a greater understanding of the unique approach and thus the unique possibilities for further engagement with embodied\, experiential supervision.</span>
LOCATION:Virtual
UID:e.2566.13625
SEQUENCE:3
DTSTAMP:20260421T015317Z
URL:https://business.ravenswoodchicago.org/events/details/introduction-to-dance-movement-therapy-supervision-13625
END:VEVENT

END:VCALENDAR
