BEGIN:VCALENDAR
VERSION:2.0
PRODID:-//ChamberMaster//Event Calendar 2.0//EN
METHOD:PUBLISH
X-PUBLISHED-TTL:P3D
REFRESH-INTERVAL:P3D
CALSCALE:GREGORIAN
BEGIN:VEVENT
DTSTART:20241110T190000Z
DTEND:20241110T220000Z
X-MICROSOFT-CDO-ALLDAYEVENT:FALSE
SUMMARY:Intro to Embroidery for Decorative Mending with Lauren Yeager
DESCRIPTION:Upgrade your wardrobe to better than new! \n\n\n\nThis class will go over several methods for repairing knit and woven fabrics with decorative stitching\, and is perfect for both beginning and intermediate stitchers. Students will spend the afternoon learning how to prepare their garment for repair\, choosing colors\, and practicing several popular embroidery stitches. This class will also introduce you to foundational embroidery skills such as how to thread the needle\, how to start and end your threads\, and how to use an embroidery hoop.\n\nClass fee includes all materials\, including four skeins of embroidery floss\, one crewel needle\, one chenille needle\, dissolvable stabilizer\, and a beechwood embroidery hoop.
X-ALT-DESC;FMTTYPE=text/html:<p>Upgrade your wardrobe to better than new!&nbsp\;<br />\n<br />\nThis class will go over several methods for repairing knit and woven fabrics with decorative stitching\, and is perfect for both beginning and intermediate stitchers. Students will spend the afternoon learning how to prepare their garment for repair\, choosing colors\, and practicing several popular embroidery stitches. This class will also introduce you to foundational embroidery skills such as how to thread the needle\, how to start and end your threads\, and how to use an embroidery hoop.</p>\n\n<p>Class fee includes all materials\, including four skeins of embroidery floss\, one crewel needle\, one chenille needle\, dissolvable stabilizer\, and a beechwood embroidery hoop.</p>\n
LOCATION:1746 W Wilson Ave. 60640
UID:e.2566.11987
SEQUENCE:3
DTSTAMP:20260421T141345Z
URL:https://business.ravenswoodchicago.org/events/details/intro-to-embroidery-for-decorative-mending-with-lauren-yeager-11987
END:VEVENT

END:VCALENDAR
